BEGIN:VCALENDAR
VERSION:2.0
PRODID:-//CloudWater Zendo - ECPv6.15.20//NONSGML v1.0//EN
CALSCALE:GREGORIAN
METHOD:PUBLISH
X-ORIGINAL-URL:https://cloudwater.org
X-WR-CALDESC:Events for CloudWater Zendo
REFRESH-INTERVAL;VALUE=DURATION:PT1H
X-Robots-Tag:noindex
X-PUBLISHED-TTL:PT1H
BEGIN:VTIMEZONE
TZID:America/New_York
BEGIN:DAYLIGHT
TZOFFSETFROM:-0500
TZOFFSETTO:-0400
TZNAME:EDT
DTSTART:20240310T070000
END:DAYLIGHT
BEGIN:STANDARD
TZOFFSETFROM:-0400
TZOFFSETTO:-0500
TZNAME:EST
DTSTART:20241103T060000
END:STANDARD
BEGIN:DAYLIGHT
TZOFFSETFROM:-0500
TZOFFSETTO:-0400
TZNAME:EDT
DTSTART:20250309T070000
END:DAYLIGHT
BEGIN:STANDARD
TZOFFSETFROM:-0400
TZOFFSETTO:-0500
TZNAME:EST
DTSTART:20251102T060000
END:STANDARD
BEGIN:DAYLIGHT
TZOFFSETFROM:-0500
TZOFFSETTO:-0400
TZNAME:EDT
DTSTART:20260308T070000
END:DAYLIGHT
BEGIN:STANDARD
TZOFFSETFROM:-0400
TZOFFSETTO:-0500
TZNAME:EST
DTSTART:20261101T060000
END:STANDARD
BEGIN:DAYLIGHT
TZOFFSETFROM:-0500
TZOFFSETTO:-0400
TZNAME:EDT
DTSTART:20270314T070000
END:DAYLIGHT
BEGIN:STANDARD
TZOFFSETFROM:-0400
TZOFFSETTO:-0500
TZNAME:EST
DTSTART:20271107T060000
END:STANDARD
END:VTIMEZONE
BEGIN:VEVENT
DTSTART;TZID=America/New_York:20251206T183000
DTEND;TZID=America/New_York:20251206T200000
DTSTAMP:20260425T063944
CREATED:20241228T182122Z
LAST-MODIFIED:20241228T182242Z
UID:10006124-1765045800-1765051200@cloudwater.org
SUMMARY:Bodhi Day Chan Retreat On Zoom\, Evening Session
DESCRIPTION:From December 1st through 6th we will meet on Zoom for silent meditation to commemorate the Buddha’s Enlightenment. Sessions will be held from noon until 1:30 p.m. and from 6:30 p.m. until 8:00 p.m. Eastern Time (US). \nhttps://us02web.zoom.us/j/81435222179?pwd=4R53Y3nXXoj2MVMK0bnHTQlWxlXMDb.1 \nMeeting ID: 814 3522 2179     Passcode: 323168
URL:https://cloudwater.org/event/bodhi-day-chan-retreat-on-zoom-evening-session/2025-12-06/
CATEGORIES:Retreat
ATTACH;FMTTYPE=image/png:https://cloudwater.org/wp-content/uploads/2024/04/Bohdi-Day-Retreat.png
END:VEVENT
BEGIN:VEVENT
DTSTART;TZID=America/New_York:20251207T090000
DTEND;TZID=America/New_York:20251207T140000
DTSTAMP:20260425T063944
CREATED:20241228T180735Z
LAST-MODIFIED:20241228T180735Z
UID:10006111-1765098000-1765116000@cloudwater.org
SUMMARY:Bodhi Day Chan Retreat
DESCRIPTION:The December 7th live session marks the end of the 7-day virtual/actual Bodhi Day retreat. We will honor the Buddha’s incomparable struggle with energetic and sincere group practice. \nThe retreat will include seated and walking meditation\, chanting\, Dharma Talks and Qigong internal energy exercises. All are welcome. A vegetarian/vegan lunch will be provided. FEE: $5 or donation. \nReservations are required for all retreats.   Make a Reservation \n 
URL:https://cloudwater.org/event/bodhi-day-chan-retreat/
CATEGORIES:Retreat
ATTACH;FMTTYPE=image/png:https://cloudwater.org/wp-content/uploads/2024/04/Bohdi-Day-Retreat.png
END:VEVENT
BEGIN:VEVENT
DTSTART;TZID=America/New_York:20260322T090000
DTEND;TZID=America/New_York:20260322T120000
DTSTAMP:20260425T063944
CREATED:20251216T142045Z
LAST-MODIFIED:20251216T142045Z
UID:10007739-1774170000-1774180800@cloudwater.org
SUMMARY:3-Hour Chan Retreat: "The Teachings Of Master Linji"
DESCRIPTION:Great Master Linji Yixuan is the founder of our Chan lineage. In this month’s retreat\, we will study some of his teachings as chronicled in the “Linji Lu” or “Record of Linji.” \nThe retreat will include seated and walking meditation\, chanting\, and Dharma Study. All are welcome. FEE: $5 or donation. Reservations required.
URL:https://cloudwater.org/event/3-hour-chan-retreat-the-teachings-of-master-linji/
LOCATION:Cloudwater Zendo\, 3820 Superior Ave\, Cleveland\, OH\, 44114\, United States
CATEGORIES:Retreat
ATTACH;FMTTYPE=image/jpeg:https://cloudwater.org/wp-content/uploads/2025/12/Linji.jpg
END:VEVENT
BEGIN:VEVENT
DTSTART;TZID=America/New_York:20260628T090000
DTEND;TZID=America/New_York:20260628T120000
DTSTAMP:20260425T063944
CREATED:20251216T155350Z
LAST-MODIFIED:20251216T155350Z
UID:10007740-1782637200-1782648000@cloudwater.org
SUMMARY:3-Hour Retreat: "Master Xuyun and the Perception of Self-Nature"
DESCRIPTION:Great Master Xuyun is considered to be one of the most eminent Chan masters of the modern age. During this retreat\, we will examine Xuyun’s approach to Awakening. \nThe retreat will include seated and walking meditation\, chanting\, and Dharma Study. All are welcome. FEE: $5 or donation. Reservations required. \n \n 
URL:https://cloudwater.org/event/3-hour-retreat-master-xuyun-and-the-perception-of-self-nature/
LOCATION:Cloudwater Zendo\, 3820 Superior Ave\, Cleveland\, OH\, 44114\, United States
CATEGORIES:Retreat
ATTACH;FMTTYPE=image/jpeg:https://cloudwater.org/wp-content/uploads/2025/12/Xuyun-2.jpg
END:VEVENT
BEGIN:VEVENT
DTSTART;TZID=America/New_York:20260927T090000
DTEND;TZID=America/New_York:20260927T120000
DTSTAMP:20260425T063944
CREATED:20251216T160424Z
LAST-MODIFIED:20251216T160424Z
UID:10007741-1790499600-1790510400@cloudwater.org
SUMMARY:3-Hour Retreat: "Great Master Huineng: From the Platform"
DESCRIPTION:The eminent Sixth Ancestor of Chan started his life as an illiterate woodcutter and ended it as one of the most eloquent Chan teachers of all time. During the retreat\, we’ll look at some of Huineng’s wisdom as recorded in the Platform Sutra. \nThe retreat will include seated and walking meditation\, chanting\, and Dharma Study. All are welcome. FEE: $5 or donation. Reservations required.
URL:https://cloudwater.org/event/3-hour-retreat-great-master-huineng-from-the-platform/
LOCATION:Cloudwater Zendo\, 3820 Superior Ave\, Cleveland\, OH\, 44114\, United States
CATEGORIES:Retreat
ATTACH;FMTTYPE=image/jpeg:https://cloudwater.org/wp-content/uploads/2025/12/huineng.jpg
END:VEVENT
END:VCALENDAR