BEGIN:VCALENDAR
VERSION:2.0
PRODID:-//CloudWater Zendo - ECPv6.15.20//NONSGML v1.0//EN
CALSCALE:GREGORIAN
METHOD:PUBLISH
X-WR-CALNAME:CloudWater Zendo
X-ORIGINAL-URL:https://cloudwater.org
X-WR-CALDESC:Events for CloudWater Zendo
REFRESH-INTERVAL;VALUE=DURATION:PT1H
X-Robots-Tag:noindex
X-PUBLISHED-TTL:PT1H
BEGIN:VTIMEZONE
TZID:America/New_York
BEGIN:DAYLIGHT
TZOFFSETFROM:-0500
TZOFFSETTO:-0400
TZNAME:EDT
DTSTART:20240310T070000
END:DAYLIGHT
BEGIN:STANDARD
TZOFFSETFROM:-0400
TZOFFSETTO:-0500
TZNAME:EST
DTSTART:20241103T060000
END:STANDARD
BEGIN:DAYLIGHT
TZOFFSETFROM:-0500
TZOFFSETTO:-0400
TZNAME:EDT
DTSTART:20250309T070000
END:DAYLIGHT
BEGIN:STANDARD
TZOFFSETFROM:-0400
TZOFFSETTO:-0500
TZNAME:EST
DTSTART:20251102T060000
END:STANDARD
BEGIN:DAYLIGHT
TZOFFSETFROM:-0500
TZOFFSETTO:-0400
TZNAME:EDT
DTSTART:20260308T070000
END:DAYLIGHT
BEGIN:STANDARD
TZOFFSETFROM:-0400
TZOFFSETTO:-0500
TZNAME:EST
DTSTART:20261101T060000
END:STANDARD
END:VTIMEZONE
BEGIN:VEVENT
DTSTART;TZID=America/New_York:20250928T090000
DTEND;TZID=America/New_York:20250928T120000
DTSTAMP:20260423T232223
CREATED:20241228T180203Z
LAST-MODIFIED:20250901T150541Z
UID:10006110-1759050000-1759060800@cloudwater.org
SUMMARY:Chan Retreat: "Actualizing Our Fundamental Enlightenment"
DESCRIPTION:Through Chan practice we come to see that we are fundamentally Awakened beings. But how do we avoid the trap of becoming attached to the practices which have led to that revelation? In our September retreat\, we will look at the principle of non-attachment and apply it to everyday life both on and off the cushion. \nThe retreat will include seated and walking meditation\, chanting\, Dharma Talks and Qigong internal energy exercises. All are welcome. A vegetarian/vegan lunch will be provided. FEE: $5 or donation. \nReservations are required for all retreats.    Make a Reservation \n 
URL:https://cloudwater.org/event/chan-retreat-actualizing-our-fundamental-enlightenment/
LOCATION:OH
CATEGORIES:Retreat
ATTACH;FMTTYPE=image/png:https://cloudwater.org/wp-content/uploads/2024/04/Meditative-Retreats-Event.png
END:VEVENT
END:VCALENDAR