BEGIN:VCALENDAR
VERSION:2.0
PRODID:-//CloudWater Zendo - ECPv6.15.20//NONSGML v1.0//EN
CALSCALE:GREGORIAN
METHOD:PUBLISH
X-ORIGINAL-URL:https://cloudwater.org
X-WR-CALDESC:Events for CloudWater Zendo
REFRESH-INTERVAL;VALUE=DURATION:PT1H
X-Robots-Tag:noindex
X-PUBLISHED-TTL:PT1H
BEGIN:VTIMEZONE
TZID:America/New_York
BEGIN:DAYLIGHT
TZOFFSETFROM:-0500
TZOFFSETTO:-0400
TZNAME:EDT
DTSTART:20240310T070000
END:DAYLIGHT
BEGIN:STANDARD
TZOFFSETFROM:-0400
TZOFFSETTO:-0500
TZNAME:EST
DTSTART:20241103T060000
END:STANDARD
BEGIN:DAYLIGHT
TZOFFSETFROM:-0500
TZOFFSETTO:-0400
TZNAME:EDT
DTSTART:20250309T070000
END:DAYLIGHT
BEGIN:STANDARD
TZOFFSETFROM:-0400
TZOFFSETTO:-0500
TZNAME:EST
DTSTART:20251102T060000
END:STANDARD
BEGIN:DAYLIGHT
TZOFFSETFROM:-0500
TZOFFSETTO:-0400
TZNAME:EDT
DTSTART:20260308T070000
END:DAYLIGHT
BEGIN:STANDARD
TZOFFSETFROM:-0400
TZOFFSETTO:-0500
TZNAME:EST
DTSTART:20261101T060000
END:STANDARD
END:VTIMEZONE
BEGIN:VEVENT
DTSTART;TZID=America/New_York:20251123T093000
DTEND;TZID=America/New_York:20251123T103000
DTSTAMP:20260424T095310
CREATED:20250725T200459Z
LAST-MODIFIED:20250725T200500Z
UID:10005782-1763890200-1763893800@cloudwater.org
SUMMARY:Sunday Morning Zen Meditation
DESCRIPTION:Sunday Morning Zen Meditation includes seated and walking practice and a traditional Zen chanting service which includes the Heart Sutra\, the Ten-Verse Life-Prolonging Guanyin Sutra\, the Four Bodhisattva Vows\, the Verse In Praise of Water\, and a chant honoring the venerable Chan Ancestors.
URL:https://cloudwater.org/event/sunday-morning-zen-meditation-4-2/2025-11-23/
CATEGORIES:Meditation
ATTACH;FMTTYPE=image/png:https://cloudwater.org/wp-content/uploads/2024/12/2025-Sunday-Morning-Zen-Meditation-2.png
END:VEVENT
BEGIN:VEVENT
DTSTART;TZID=America/New_York:20251122T090000
DTEND;TZID=America/New_York:20251122T100000
DTSTAMP:20260424T095310
CREATED:20241225T021640Z
LAST-MODIFIED:20260205T124226Z
UID:10005887-1763802000-1763805600@cloudwater.org
SUMMARY:Morning Meditation & Zen Tea
DESCRIPTION:Seated and walking meditation practice followed by the chanting of the Heart Sutra and the silent drinking of tea in the Meditation Hall.
URL:https://cloudwater.org/event/morning-meditation-zen-tea/2025-11-22/
CATEGORIES:Meditation
ATTACH;FMTTYPE=image/png:https://cloudwater.org/wp-content/uploads/2024/12/2025-Saturday-Morning-Meditation-900am.png
END:VEVENT
BEGIN:VEVENT
DTSTART;TZID=America/New_York:20251118T190000
DTEND;TZID=America/New_York:20251118T210000
DTSTAMP:20260424T095310
CREATED:20241219T215100Z
LAST-MODIFIED:20241225T114839Z
UID:10005713-1763492400-1763499600@cloudwater.org
SUMMARY:Tuesday Evening Group Meditation
DESCRIPTION:Group meditative practice is the beating heart of any Zen Center. Our group Zen practice\, which begins at 7:00 p.m. on Tuesdays\, includes periods of seated meditation and walking meditation. This is followed by chanting practice\, a Dharma Talk and a discussion\, followed by social tea and conversation.
URL:https://cloudwater.org/event/sunday-morning-zen-meditation-3/2025-11-18/
LOCATION:Cloudwater Zendo\, 3820 Superior Ave\, Cleveland\, OH\, 44114\, United States
CATEGORIES:Meditation
ATTACH;FMTTYPE=image/png:https://cloudwater.org/wp-content/uploads/2024/12/Tuesday-Evening-Group-Meditation-2025.png
END:VEVENT
BEGIN:VEVENT
DTSTART;TZID=America/New_York:20251117T190000
DTEND;TZID=America/New_York:20251117T200000
DTSTAMP:20260424T095310
CREATED:20241225T023231Z
LAST-MODIFIED:20241225T112722Z
UID:10005921-1763406000-1763409600@cloudwater.org
SUMMARY:Golden Wisdom Virtual Sangha On Zoom
DESCRIPTION:Led by Venerable Shih Zuandao\, this virtual Zen group meets for meditation on the first two Mondays of each month. A Zen Study session is conducted on the third Monday of the month. All Monday sessions begin at 7:00 p.m. local time (Eastern\, USA). \nGolden Wisdom also meets on the first and third Saturdays of each month at 9:00 a.m. All are welcome. \nhttps://us02web.zoom.us/j/85439673161?pwd=RVhSeVg3NmxJZjZlM1p0NkRrbXJhZz09 \nMeeting ID: 854 3967 3161     Passcode: 454169
URL:https://cloudwater.org/event/golden-wisdom-virtual-sangha-on-zoom-13/2025-11-17/
CATEGORIES:Golden Wisdom,Meditation
ATTACH;FMTTYPE=image/png:https://cloudwater.org/wp-content/uploads/2024/04/Golden-Wisdom-Virtual-Sangha.png
END:VEVENT
BEGIN:VEVENT
DTSTART;TZID=America/New_York:20251116T093000
DTEND;TZID=America/New_York:20251116T103000
DTSTAMP:20260424T095310
CREATED:20250725T200459Z
LAST-MODIFIED:20250725T200500Z
UID:10005781-1763285400-1763289000@cloudwater.org
SUMMARY:Sunday Morning Zen Meditation
DESCRIPTION:Sunday Morning Zen Meditation includes seated and walking practice and a traditional Zen chanting service which includes the Heart Sutra\, the Ten-Verse Life-Prolonging Guanyin Sutra\, the Four Bodhisattva Vows\, the Verse In Praise of Water\, and a chant honoring the venerable Chan Ancestors.
URL:https://cloudwater.org/event/sunday-morning-zen-meditation-4-2/2025-11-16/
CATEGORIES:Meditation
ATTACH;FMTTYPE=image/png:https://cloudwater.org/wp-content/uploads/2024/12/2025-Sunday-Morning-Zen-Meditation-2.png
END:VEVENT
BEGIN:VEVENT
DTSTART;TZID=America/New_York:20251115T090000
DTEND;TZID=America/New_York:20251115T100000
DTSTAMP:20260424T095310
CREATED:20250722T130031Z
LAST-MODIFIED:20250722T130033Z
UID:10005947-1763197200-1763200800@cloudwater.org
SUMMARY:Golden Wisdom Virtual Sangha On Zoom
DESCRIPTION:Led by Venerable Shih Zuandao\, this virtual Zen group meets for meditation on the first two Mondays of each month. A Zen Study session is conducted on the third Monday of the month. All Monday sessions begin at 7:00 p.m. local time (Eastern\, USA). \nGolden Wisdom also meets on the first and third Saturdays of each month at 9:00 a.m. All are welcome. \nhttps://us02web.zoom.us/j/85439673161?pwd=RVhSeVg3NmxJZjZlM1p0NkRrbXJhZz09 \nMeeting ID: 854 3967 3161     Passcode: 454169
URL:https://cloudwater.org/event/golden-wisdom-virtual-sangha-on-zoom-14-3-2/2025-11-15/
CATEGORIES:Golden Wisdom,Meditation,Online
ATTACH;FMTTYPE=image/png:https://cloudwater.org/wp-content/uploads/2024/12/Golden-Wisdom-Saturday.png
END:VEVENT
BEGIN:VEVENT
DTSTART;TZID=America/New_York:20251115T090000
DTEND;TZID=America/New_York:20251115T100000
DTSTAMP:20260424T095310
CREATED:20241225T021640Z
LAST-MODIFIED:20260205T124226Z
UID:10005886-1763197200-1763200800@cloudwater.org
SUMMARY:Morning Meditation & Zen Tea
DESCRIPTION:Seated and walking meditation practice followed by the chanting of the Heart Sutra and the silent drinking of tea in the Meditation Hall.
URL:https://cloudwater.org/event/morning-meditation-zen-tea/2025-11-15/
CATEGORIES:Meditation
ATTACH;FMTTYPE=image/png:https://cloudwater.org/wp-content/uploads/2024/12/2025-Saturday-Morning-Meditation-900am.png
END:VEVENT
BEGIN:VEVENT
DTSTART;TZID=America/New_York:20251111T190000
DTEND;TZID=America/New_York:20251111T210000
DTSTAMP:20260424T095310
CREATED:20241219T215100Z
LAST-MODIFIED:20241225T114839Z
UID:10005712-1762887600-1762894800@cloudwater.org
SUMMARY:Tuesday Evening Group Meditation
DESCRIPTION:Group meditative practice is the beating heart of any Zen Center. Our group Zen practice\, which begins at 7:00 p.m. on Tuesdays\, includes periods of seated meditation and walking meditation. This is followed by chanting practice\, a Dharma Talk and a discussion\, followed by social tea and conversation.
URL:https://cloudwater.org/event/sunday-morning-zen-meditation-3/2025-11-11/
LOCATION:Cloudwater Zendo\, 3820 Superior Ave\, Cleveland\, OH\, 44114\, United States
CATEGORIES:Meditation
ATTACH;FMTTYPE=image/png:https://cloudwater.org/wp-content/uploads/2024/12/Tuesday-Evening-Group-Meditation-2025.png
END:VEVENT
BEGIN:VEVENT
DTSTART;TZID=America/New_York:20251110T190000
DTEND;TZID=America/New_York:20251110T200000
DTSTAMP:20260424T095310
CREATED:20241225T023231Z
LAST-MODIFIED:20241225T112722Z
UID:10005920-1762801200-1762804800@cloudwater.org
SUMMARY:Golden Wisdom Virtual Sangha On Zoom
DESCRIPTION:Led by Venerable Shih Zuandao\, this virtual Zen group meets for meditation on the first two Mondays of each month. A Zen Study session is conducted on the third Monday of the month. All Monday sessions begin at 7:00 p.m. local time (Eastern\, USA). \nGolden Wisdom also meets on the first and third Saturdays of each month at 9:00 a.m. All are welcome. \nhttps://us02web.zoom.us/j/85439673161?pwd=RVhSeVg3NmxJZjZlM1p0NkRrbXJhZz09 \nMeeting ID: 854 3967 3161     Passcode: 454169
URL:https://cloudwater.org/event/golden-wisdom-virtual-sangha-on-zoom-13/2025-11-10/
CATEGORIES:Golden Wisdom,Meditation
ATTACH;FMTTYPE=image/png:https://cloudwater.org/wp-content/uploads/2024/04/Golden-Wisdom-Virtual-Sangha.png
END:VEVENT
BEGIN:VEVENT
DTSTART;TZID=America/New_York:20251109T093000
DTEND;TZID=America/New_York:20251109T103000
DTSTAMP:20260424T095310
CREATED:20250725T200459Z
LAST-MODIFIED:20250725T200500Z
UID:10005780-1762680600-1762684200@cloudwater.org
SUMMARY:Sunday Morning Zen Meditation
DESCRIPTION:Sunday Morning Zen Meditation includes seated and walking practice and a traditional Zen chanting service which includes the Heart Sutra\, the Ten-Verse Life-Prolonging Guanyin Sutra\, the Four Bodhisattva Vows\, the Verse In Praise of Water\, and a chant honoring the venerable Chan Ancestors.
URL:https://cloudwater.org/event/sunday-morning-zen-meditation-4-2/2025-11-09/
CATEGORIES:Meditation
ATTACH;FMTTYPE=image/png:https://cloudwater.org/wp-content/uploads/2024/12/2025-Sunday-Morning-Zen-Meditation-2.png
END:VEVENT
BEGIN:VEVENT
DTSTART;TZID=America/New_York:20251108T090000
DTEND;TZID=America/New_York:20251108T100000
DTSTAMP:20260424T095310
CREATED:20241225T021640Z
LAST-MODIFIED:20260205T124226Z
UID:10005885-1762592400-1762596000@cloudwater.org
SUMMARY:Morning Meditation & Zen Tea
DESCRIPTION:Seated and walking meditation practice followed by the chanting of the Heart Sutra and the silent drinking of tea in the Meditation Hall.
URL:https://cloudwater.org/event/morning-meditation-zen-tea/2025-11-08/
CATEGORIES:Meditation
ATTACH;FMTTYPE=image/png:https://cloudwater.org/wp-content/uploads/2024/12/2025-Saturday-Morning-Meditation-900am.png
END:VEVENT
BEGIN:VEVENT
DTSTART;TZID=America/New_York:20251104T190000
DTEND;TZID=America/New_York:20251104T210000
DTSTAMP:20260424T095310
CREATED:20241219T215100Z
LAST-MODIFIED:20241225T114839Z
UID:10005711-1762282800-1762290000@cloudwater.org
SUMMARY:Tuesday Evening Group Meditation
DESCRIPTION:Group meditative practice is the beating heart of any Zen Center. Our group Zen practice\, which begins at 7:00 p.m. on Tuesdays\, includes periods of seated meditation and walking meditation. This is followed by chanting practice\, a Dharma Talk and a discussion\, followed by social tea and conversation.
URL:https://cloudwater.org/event/sunday-morning-zen-meditation-3/2025-11-04/
LOCATION:Cloudwater Zendo\, 3820 Superior Ave\, Cleveland\, OH\, 44114\, United States
CATEGORIES:Meditation
ATTACH;FMTTYPE=image/png:https://cloudwater.org/wp-content/uploads/2024/12/Tuesday-Evening-Group-Meditation-2025.png
END:VEVENT
BEGIN:VEVENT
DTSTART;TZID=America/New_York:20251103T190000
DTEND;TZID=America/New_York:20251103T200000
DTSTAMP:20260424T095310
CREATED:20241225T023231Z
LAST-MODIFIED:20241225T112722Z
UID:10005919-1762196400-1762200000@cloudwater.org
SUMMARY:Golden Wisdom Virtual Sangha On Zoom
DESCRIPTION:Led by Venerable Shih Zuandao\, this virtual Zen group meets for meditation on the first two Mondays of each month. A Zen Study session is conducted on the third Monday of the month. All Monday sessions begin at 7:00 p.m. local time (Eastern\, USA). \nGolden Wisdom also meets on the first and third Saturdays of each month at 9:00 a.m. All are welcome. \nhttps://us02web.zoom.us/j/85439673161?pwd=RVhSeVg3NmxJZjZlM1p0NkRrbXJhZz09 \nMeeting ID: 854 3967 3161     Passcode: 454169
URL:https://cloudwater.org/event/golden-wisdom-virtual-sangha-on-zoom-13/2025-11-03/
CATEGORIES:Golden Wisdom,Meditation
ATTACH;FMTTYPE=image/png:https://cloudwater.org/wp-content/uploads/2024/04/Golden-Wisdom-Virtual-Sangha.png
END:VEVENT
BEGIN:VEVENT
DTSTART;TZID=America/New_York:20251102T093000
DTEND;TZID=America/New_York:20251102T103000
DTSTAMP:20260424T095310
CREATED:20250725T200459Z
LAST-MODIFIED:20250725T200500Z
UID:10005779-1762075800-1762079400@cloudwater.org
SUMMARY:Sunday Morning Zen Meditation
DESCRIPTION:Sunday Morning Zen Meditation includes seated and walking practice and a traditional Zen chanting service which includes the Heart Sutra\, the Ten-Verse Life-Prolonging Guanyin Sutra\, the Four Bodhisattva Vows\, the Verse In Praise of Water\, and a chant honoring the venerable Chan Ancestors.
URL:https://cloudwater.org/event/sunday-morning-zen-meditation-4-2/2025-11-02/
CATEGORIES:Meditation
ATTACH;FMTTYPE=image/png:https://cloudwater.org/wp-content/uploads/2024/12/2025-Sunday-Morning-Zen-Meditation-2.png
END:VEVENT
BEGIN:VEVENT
DTSTART;TZID=America/New_York:20251101T090000
DTEND;TZID=America/New_York:20251101T100000
DTSTAMP:20260424T095310
CREATED:20250722T130031Z
LAST-MODIFIED:20250722T130033Z
UID:10005946-1761987600-1761991200@cloudwater.org
SUMMARY:Golden Wisdom Virtual Sangha On Zoom
DESCRIPTION:Led by Venerable Shih Zuandao\, this virtual Zen group meets for meditation on the first two Mondays of each month. A Zen Study session is conducted on the third Monday of the month. All Monday sessions begin at 7:00 p.m. local time (Eastern\, USA). \nGolden Wisdom also meets on the first and third Saturdays of each month at 9:00 a.m. All are welcome. \nhttps://us02web.zoom.us/j/85439673161?pwd=RVhSeVg3NmxJZjZlM1p0NkRrbXJhZz09 \nMeeting ID: 854 3967 3161     Passcode: 454169
URL:https://cloudwater.org/event/golden-wisdom-virtual-sangha-on-zoom-14-3-2/2025-11-01/
CATEGORIES:Golden Wisdom,Meditation,Online
ATTACH;FMTTYPE=image/png:https://cloudwater.org/wp-content/uploads/2024/12/Golden-Wisdom-Saturday.png
END:VEVENT
BEGIN:VEVENT
DTSTART;TZID=America/New_York:20251101T090000
DTEND;TZID=America/New_York:20251101T100000
DTSTAMP:20260424T095310
CREATED:20241225T021640Z
LAST-MODIFIED:20260205T124226Z
UID:10005884-1761987600-1761991200@cloudwater.org
SUMMARY:Morning Meditation & Zen Tea
DESCRIPTION:Seated and walking meditation practice followed by the chanting of the Heart Sutra and the silent drinking of tea in the Meditation Hall.
URL:https://cloudwater.org/event/morning-meditation-zen-tea/2025-11-01/
CATEGORIES:Meditation
ATTACH;FMTTYPE=image/png:https://cloudwater.org/wp-content/uploads/2024/12/2025-Saturday-Morning-Meditation-900am.png
END:VEVENT
BEGIN:VEVENT
DTSTART;TZID=America/New_York:20251028T190000
DTEND;TZID=America/New_York:20251028T210000
DTSTAMP:20260424T095310
CREATED:20241219T215100Z
LAST-MODIFIED:20241225T114839Z
UID:10005710-1761678000-1761685200@cloudwater.org
SUMMARY:Tuesday Evening Group Meditation
DESCRIPTION:Group meditative practice is the beating heart of any Zen Center. Our group Zen practice\, which begins at 7:00 p.m. on Tuesdays\, includes periods of seated meditation and walking meditation. This is followed by chanting practice\, a Dharma Talk and a discussion\, followed by social tea and conversation.
URL:https://cloudwater.org/event/sunday-morning-zen-meditation-3/2025-10-28/
LOCATION:Cloudwater Zendo\, 3820 Superior Ave\, Cleveland\, OH\, 44114\, United States
CATEGORIES:Meditation
ATTACH;FMTTYPE=image/png:https://cloudwater.org/wp-content/uploads/2024/12/Tuesday-Evening-Group-Meditation-2025.png
END:VEVENT
BEGIN:VEVENT
DTSTART;TZID=America/New_York:20251025T090000
DTEND;TZID=America/New_York:20251025T100000
DTSTAMP:20260424T095310
CREATED:20241225T021640Z
LAST-MODIFIED:20260205T124226Z
UID:10005883-1761382800-1761386400@cloudwater.org
SUMMARY:Morning Meditation & Zen Tea
DESCRIPTION:Seated and walking meditation practice followed by the chanting of the Heart Sutra and the silent drinking of tea in the Meditation Hall.
URL:https://cloudwater.org/event/morning-meditation-zen-tea/2025-10-25/
CATEGORIES:Meditation
ATTACH;FMTTYPE=image/png:https://cloudwater.org/wp-content/uploads/2024/12/2025-Saturday-Morning-Meditation-900am.png
END:VEVENT
BEGIN:VEVENT
DTSTART;TZID=America/New_York:20251021T190000
DTEND;TZID=America/New_York:20251021T210000
DTSTAMP:20260424T095310
CREATED:20241219T215100Z
LAST-MODIFIED:20241225T114839Z
UID:10005709-1761073200-1761080400@cloudwater.org
SUMMARY:Tuesday Evening Group Meditation
DESCRIPTION:Group meditative practice is the beating heart of any Zen Center. Our group Zen practice\, which begins at 7:00 p.m. on Tuesdays\, includes periods of seated meditation and walking meditation. This is followed by chanting practice\, a Dharma Talk and a discussion\, followed by social tea and conversation.
URL:https://cloudwater.org/event/sunday-morning-zen-meditation-3/2025-10-21/
LOCATION:Cloudwater Zendo\, 3820 Superior Ave\, Cleveland\, OH\, 44114\, United States
CATEGORIES:Meditation
ATTACH;FMTTYPE=image/png:https://cloudwater.org/wp-content/uploads/2024/12/Tuesday-Evening-Group-Meditation-2025.png
END:VEVENT
BEGIN:VEVENT
DTSTART;TZID=America/New_York:20251020T190000
DTEND;TZID=America/New_York:20251020T200000
DTSTAMP:20260424T095310
CREATED:20241225T023231Z
LAST-MODIFIED:20241225T112722Z
UID:10005918-1760986800-1760990400@cloudwater.org
SUMMARY:Golden Wisdom Virtual Sangha On Zoom
DESCRIPTION:Led by Venerable Shih Zuandao\, this virtual Zen group meets for meditation on the first two Mondays of each month. A Zen Study session is conducted on the third Monday of the month. All Monday sessions begin at 7:00 p.m. local time (Eastern\, USA). \nGolden Wisdom also meets on the first and third Saturdays of each month at 9:00 a.m. All are welcome. \nhttps://us02web.zoom.us/j/85439673161?pwd=RVhSeVg3NmxJZjZlM1p0NkRrbXJhZz09 \nMeeting ID: 854 3967 3161     Passcode: 454169
URL:https://cloudwater.org/event/golden-wisdom-virtual-sangha-on-zoom-13/2025-10-20/
CATEGORIES:Golden Wisdom,Meditation
ATTACH;FMTTYPE=image/png:https://cloudwater.org/wp-content/uploads/2024/04/Golden-Wisdom-Virtual-Sangha.png
END:VEVENT
BEGIN:VEVENT
DTSTART;TZID=America/New_York:20251019T093000
DTEND;TZID=America/New_York:20251019T103000
DTSTAMP:20260424T095310
CREATED:20251016T113603Z
LAST-MODIFIED:20251016T113641Z
UID:10005778-1760866200-1760869800@cloudwater.org
SUMMARY:Sunday Morning Zen Meditation
DESCRIPTION:Sunday Morning Zen Meditation includes seated and walking practice and a traditional Zen chanting service which includes the Heart Sutra\, the Ten-Verse Life-Prolonging Guanyin Sutra\, the Four Bodhisattva Vows\, the Verse In Praise of Water\, and a chant honoring the venerable Chan Ancestors.
URL:https://cloudwater.org/event/sunday-morning-zen-meditation-4-2-2/
CATEGORIES:Meditation
ATTACH;FMTTYPE=image/png:https://cloudwater.org/wp-content/uploads/2024/12/2025-Sunday-Morning-Zen-Meditation-2.png
END:VEVENT
BEGIN:VEVENT
DTSTART;TZID=America/New_York:20251018T090000
DTEND;TZID=America/New_York:20251018T100000
DTSTAMP:20260424T095310
CREATED:20250722T130031Z
LAST-MODIFIED:20250722T130033Z
UID:10005945-1760778000-1760781600@cloudwater.org
SUMMARY:Golden Wisdom Virtual Sangha On Zoom
DESCRIPTION:Led by Venerable Shih Zuandao\, this virtual Zen group meets for meditation on the first two Mondays of each month. A Zen Study session is conducted on the third Monday of the month. All Monday sessions begin at 7:00 p.m. local time (Eastern\, USA). \nGolden Wisdom also meets on the first and third Saturdays of each month at 9:00 a.m. All are welcome. \nhttps://us02web.zoom.us/j/85439673161?pwd=RVhSeVg3NmxJZjZlM1p0NkRrbXJhZz09 \nMeeting ID: 854 3967 3161     Passcode: 454169
URL:https://cloudwater.org/event/golden-wisdom-virtual-sangha-on-zoom-14-3-2/2025-10-18/
CATEGORIES:Golden Wisdom,Meditation,Online
ATTACH;FMTTYPE=image/png:https://cloudwater.org/wp-content/uploads/2024/12/Golden-Wisdom-Saturday.png
END:VEVENT
BEGIN:VEVENT
DTSTART;TZID=America/New_York:20251018T090000
DTEND;TZID=America/New_York:20251018T100000
DTSTAMP:20260424T095310
CREATED:20241225T021640Z
LAST-MODIFIED:20260205T124226Z
UID:10005882-1760778000-1760781600@cloudwater.org
SUMMARY:Morning Meditation & Zen Tea
DESCRIPTION:Seated and walking meditation practice followed by the chanting of the Heart Sutra and the silent drinking of tea in the Meditation Hall.
URL:https://cloudwater.org/event/morning-meditation-zen-tea/2025-10-18/
CATEGORIES:Meditation
ATTACH;FMTTYPE=image/png:https://cloudwater.org/wp-content/uploads/2024/12/2025-Saturday-Morning-Meditation-900am.png
END:VEVENT
BEGIN:VEVENT
DTSTART;TZID=America/New_York:20251014T190000
DTEND;TZID=America/New_York:20251014T210000
DTSTAMP:20260424T095310
CREATED:20241219T215100Z
LAST-MODIFIED:20241225T114839Z
UID:10005708-1760468400-1760475600@cloudwater.org
SUMMARY:Tuesday Evening Group Meditation
DESCRIPTION:Group meditative practice is the beating heart of any Zen Center. Our group Zen practice\, which begins at 7:00 p.m. on Tuesdays\, includes periods of seated meditation and walking meditation. This is followed by chanting practice\, a Dharma Talk and a discussion\, followed by social tea and conversation.
URL:https://cloudwater.org/event/sunday-morning-zen-meditation-3/2025-10-14/
LOCATION:Cloudwater Zendo\, 3820 Superior Ave\, Cleveland\, OH\, 44114\, United States
CATEGORIES:Meditation
ATTACH;FMTTYPE=image/png:https://cloudwater.org/wp-content/uploads/2024/12/Tuesday-Evening-Group-Meditation-2025.png
END:VEVENT
BEGIN:VEVENT
DTSTART;TZID=America/New_York:20251013T190000
DTEND;TZID=America/New_York:20251013T200000
DTSTAMP:20260424T095310
CREATED:20241225T023231Z
LAST-MODIFIED:20241225T112722Z
UID:10005917-1760382000-1760385600@cloudwater.org
SUMMARY:Golden Wisdom Virtual Sangha On Zoom
DESCRIPTION:Led by Venerable Shih Zuandao\, this virtual Zen group meets for meditation on the first two Mondays of each month. A Zen Study session is conducted on the third Monday of the month. All Monday sessions begin at 7:00 p.m. local time (Eastern\, USA). \nGolden Wisdom also meets on the first and third Saturdays of each month at 9:00 a.m. All are welcome. \nhttps://us02web.zoom.us/j/85439673161?pwd=RVhSeVg3NmxJZjZlM1p0NkRrbXJhZz09 \nMeeting ID: 854 3967 3161     Passcode: 454169
URL:https://cloudwater.org/event/golden-wisdom-virtual-sangha-on-zoom-13/2025-10-13/
CATEGORIES:Golden Wisdom,Meditation
ATTACH;FMTTYPE=image/png:https://cloudwater.org/wp-content/uploads/2024/04/Golden-Wisdom-Virtual-Sangha.png
END:VEVENT
BEGIN:VEVENT
DTSTART;TZID=America/New_York:20251012T093000
DTEND;TZID=America/New_York:20251012T103000
DTSTAMP:20260424T095310
CREATED:20250725T200459Z
LAST-MODIFIED:20250725T200500Z
UID:10005777-1760261400-1760265000@cloudwater.org
SUMMARY:Sunday Morning Zen Meditation
DESCRIPTION:Sunday Morning Zen Meditation includes seated and walking practice and a traditional Zen chanting service which includes the Heart Sutra\, the Ten-Verse Life-Prolonging Guanyin Sutra\, the Four Bodhisattva Vows\, the Verse In Praise of Water\, and a chant honoring the venerable Chan Ancestors.
URL:https://cloudwater.org/event/sunday-morning-zen-meditation-4-2/2025-10-12/
CATEGORIES:Meditation
ATTACH;FMTTYPE=image/png:https://cloudwater.org/wp-content/uploads/2024/12/2025-Sunday-Morning-Zen-Meditation-2.png
END:VEVENT
BEGIN:VEVENT
DTSTART;TZID=America/New_York:20251011T090000
DTEND;TZID=America/New_York:20251011T100000
DTSTAMP:20260424T095310
CREATED:20241225T021640Z
LAST-MODIFIED:20260205T124226Z
UID:10005881-1760173200-1760176800@cloudwater.org
SUMMARY:Morning Meditation & Zen Tea
DESCRIPTION:Seated and walking meditation practice followed by the chanting of the Heart Sutra and the silent drinking of tea in the Meditation Hall.
URL:https://cloudwater.org/event/morning-meditation-zen-tea/2025-10-11/
CATEGORIES:Meditation
ATTACH;FMTTYPE=image/png:https://cloudwater.org/wp-content/uploads/2024/12/2025-Saturday-Morning-Meditation-900am.png
END:VEVENT
BEGIN:VEVENT
DTSTART;TZID=America/New_York:20251007T190000
DTEND;TZID=America/New_York:20251007T210000
DTSTAMP:20260424T095310
CREATED:20241219T215100Z
LAST-MODIFIED:20241225T114839Z
UID:10005707-1759863600-1759870800@cloudwater.org
SUMMARY:Tuesday Evening Group Meditation
DESCRIPTION:Group meditative practice is the beating heart of any Zen Center. Our group Zen practice\, which begins at 7:00 p.m. on Tuesdays\, includes periods of seated meditation and walking meditation. This is followed by chanting practice\, a Dharma Talk and a discussion\, followed by social tea and conversation.
URL:https://cloudwater.org/event/sunday-morning-zen-meditation-3/2025-10-07/
LOCATION:Cloudwater Zendo\, 3820 Superior Ave\, Cleveland\, OH\, 44114\, United States
CATEGORIES:Meditation
ATTACH;FMTTYPE=image/png:https://cloudwater.org/wp-content/uploads/2024/12/Tuesday-Evening-Group-Meditation-2025.png
END:VEVENT
BEGIN:VEVENT
DTSTART;TZID=America/New_York:20251006T190000
DTEND;TZID=America/New_York:20251006T200000
DTSTAMP:20260424T095310
CREATED:20241225T023231Z
LAST-MODIFIED:20241225T112722Z
UID:10005916-1759777200-1759780800@cloudwater.org
SUMMARY:Golden Wisdom Virtual Sangha On Zoom
DESCRIPTION:Led by Venerable Shih Zuandao\, this virtual Zen group meets for meditation on the first two Mondays of each month. A Zen Study session is conducted on the third Monday of the month. All Monday sessions begin at 7:00 p.m. local time (Eastern\, USA). \nGolden Wisdom also meets on the first and third Saturdays of each month at 9:00 a.m. All are welcome. \nhttps://us02web.zoom.us/j/85439673161?pwd=RVhSeVg3NmxJZjZlM1p0NkRrbXJhZz09 \nMeeting ID: 854 3967 3161     Passcode: 454169
URL:https://cloudwater.org/event/golden-wisdom-virtual-sangha-on-zoom-13/2025-10-06/
CATEGORIES:Golden Wisdom,Meditation
ATTACH;FMTTYPE=image/png:https://cloudwater.org/wp-content/uploads/2024/04/Golden-Wisdom-Virtual-Sangha.png
END:VEVENT
BEGIN:VEVENT
DTSTART;TZID=America/New_York:20251005T093000
DTEND;TZID=America/New_York:20251005T103000
DTSTAMP:20260424T095310
CREATED:20250725T200459Z
LAST-MODIFIED:20250725T200500Z
UID:10005776-1759656600-1759660200@cloudwater.org
SUMMARY:Sunday Morning Zen Meditation
DESCRIPTION:Sunday Morning Zen Meditation includes seated and walking practice and a traditional Zen chanting service which includes the Heart Sutra\, the Ten-Verse Life-Prolonging Guanyin Sutra\, the Four Bodhisattva Vows\, the Verse In Praise of Water\, and a chant honoring the venerable Chan Ancestors.
URL:https://cloudwater.org/event/sunday-morning-zen-meditation-4-2/2025-10-05/
CATEGORIES:Meditation
ATTACH;FMTTYPE=image/png:https://cloudwater.org/wp-content/uploads/2024/12/2025-Sunday-Morning-Zen-Meditation-2.png
END:VEVENT
END:VCALENDAR