BEGIN:VCALENDAR
VERSION:2.0
PRODID:-//CloudWater Zendo - ECPv6.15.20//NONSGML v1.0//EN
CALSCALE:GREGORIAN
METHOD:PUBLISH
X-WR-CALNAME:CloudWater Zendo
X-ORIGINAL-URL:https://cloudwater.org
X-WR-CALDESC:Events for CloudWater Zendo
REFRESH-INTERVAL;VALUE=DURATION:PT1H
X-Robots-Tag:noindex
X-PUBLISHED-TTL:PT1H
BEGIN:VTIMEZONE
TZID:America/New_York
BEGIN:DAYLIGHT
TZOFFSETFROM:-0500
TZOFFSETTO:-0400
TZNAME:EDT
DTSTART:20260308T070000
END:DAYLIGHT
BEGIN:STANDARD
TZOFFSETFROM:-0400
TZOFFSETTO:-0500
TZNAME:EST
DTSTART:20261101T060000
END:STANDARD
BEGIN:DAYLIGHT
TZOFFSETFROM:-0500
TZOFFSETTO:-0400
TZNAME:EDT
DTSTART:20270314T070000
END:DAYLIGHT
BEGIN:STANDARD
TZOFFSETFROM:-0400
TZOFFSETTO:-0500
TZNAME:EST
DTSTART:20271107T060000
END:STANDARD
BEGIN:DAYLIGHT
TZOFFSETFROM:-0500
TZOFFSETTO:-0400
TZNAME:EDT
DTSTART:20280312T070000
END:DAYLIGHT
BEGIN:STANDARD
TZOFFSETFROM:-0400
TZOFFSETTO:-0500
TZNAME:EST
DTSTART:20281105T060000
END:STANDARD
END:VTIMEZONE
BEGIN:VEVENT
DTSTART;TZID=America/New_York:20270803T190000
DTEND;TZID=America/New_York:20270803T203000
DTSTAMP:20260425T095205
CREATED:20251210T131831Z
LAST-MODIFIED:20260125T130111Z
UID:10006277-1817319600-1817325000@cloudwater.org
SUMMARY:Tuesday Evening Group Meditation
DESCRIPTION:Group meditative practice is the beating heart of any Zen Center. Our group Zen practice\, which begins at 7:00 p.m. on Tuesdays\, includes periods of seated meditation and walking meditation. Chanting practice\, a Dharma Talk\, and a discussion are then followed by social tea and conversation.
URL:https://cloudwater.org/event/tuesday-evening-group-meditation-5/2027-08-03/
CATEGORIES:Meditation
ATTACH;FMTTYPE=image/png:https://cloudwater.org/wp-content/uploads/2024/12/Tuesday-Evening-Group-Meditation-2025.png
END:VEVENT
BEGIN:VEVENT
DTSTART;TZID=America/New_York:20270807T090000
DTEND;TZID=America/New_York:20270807T100000
DTSTAMP:20260425T095205
CREATED:20251229T213020Z
LAST-MODIFIED:20260205T124515Z
UID:10007876-1817629200-1817632800@cloudwater.org
SUMMARY:Morning Meditation & Zen Tea
DESCRIPTION:Seated and walking meditation practice followed by the chanting of the Heart Sutra and the silent drinking of tea in the Meditation Hall.
URL:https://cloudwater.org/event/morning-meditation-zen-tea-2-2/2027-08-07/
CATEGORIES:Meditation
ATTACH;FMTTYPE=image/png:https://cloudwater.org/wp-content/uploads/2024/12/2025-Saturday-Morning-Meditation-900am.png
END:VEVENT
BEGIN:VEVENT
DTSTART;TZID=America/New_York:20270808T093000
DTEND;TZID=America/New_York:20270808T103000
DTSTAMP:20260425T095205
CREATED:20251210T134439Z
LAST-MODIFIED:20260205T132934Z
UID:10007023-1817717400-1817721000@cloudwater.org
SUMMARY:Sunday Morning Zen Meditation
DESCRIPTION:Sunday Morning Zen Meditation includes seated and walking practice and a traditional Zen chanting service which includes the Heart Sutra\, the Ten-Verse Life-Prolonging Guanyin Sutra\, the Four Bodhisattva Vows\, the Verse In Praise of Water\, and a chant honoring the venerable Chan Ancestors. This is followed by the drinking of herbal tea\, plus time for conversation.
URL:https://cloudwater.org/event/sunday-morning-zen-meditation-5/2027-08-08/
CATEGORIES:Meditation
ATTACH;FMTTYPE=image/png:https://cloudwater.org/wp-content/uploads/2024/12/2025-Sunday-Morning-Zen-Meditation.png
END:VEVENT
BEGIN:VEVENT
DTSTART;TZID=America/New_York:20270810T190000
DTEND;TZID=America/New_York:20270810T203000
DTSTAMP:20260425T095205
CREATED:20251210T131831Z
LAST-MODIFIED:20260125T130111Z
UID:10006278-1817924400-1817929800@cloudwater.org
SUMMARY:Tuesday Evening Group Meditation
DESCRIPTION:Group meditative practice is the beating heart of any Zen Center. Our group Zen practice\, which begins at 7:00 p.m. on Tuesdays\, includes periods of seated meditation and walking meditation. Chanting practice\, a Dharma Talk\, and a discussion are then followed by social tea and conversation.
URL:https://cloudwater.org/event/tuesday-evening-group-meditation-5/2027-08-10/
CATEGORIES:Meditation
ATTACH;FMTTYPE=image/png:https://cloudwater.org/wp-content/uploads/2024/12/Tuesday-Evening-Group-Meditation-2025.png
END:VEVENT
BEGIN:VEVENT
DTSTART;TZID=America/New_York:20270814T090000
DTEND;TZID=America/New_York:20270814T100000
DTSTAMP:20260425T095205
CREATED:20251229T213020Z
LAST-MODIFIED:20260205T124515Z
UID:10007877-1818234000-1818237600@cloudwater.org
SUMMARY:Morning Meditation & Zen Tea
DESCRIPTION:Seated and walking meditation practice followed by the chanting of the Heart Sutra and the silent drinking of tea in the Meditation Hall.
URL:https://cloudwater.org/event/morning-meditation-zen-tea-2-2/2027-08-14/
CATEGORIES:Meditation
ATTACH;FMTTYPE=image/png:https://cloudwater.org/wp-content/uploads/2024/12/2025-Saturday-Morning-Meditation-900am.png
END:VEVENT
BEGIN:VEVENT
DTSTART;TZID=America/New_York:20270815T093000
DTEND;TZID=America/New_York:20270815T103000
DTSTAMP:20260425T095205
CREATED:20251210T134439Z
LAST-MODIFIED:20260205T132934Z
UID:10007024-1818322200-1818325800@cloudwater.org
SUMMARY:Sunday Morning Zen Meditation
DESCRIPTION:Sunday Morning Zen Meditation includes seated and walking practice and a traditional Zen chanting service which includes the Heart Sutra\, the Ten-Verse Life-Prolonging Guanyin Sutra\, the Four Bodhisattva Vows\, the Verse In Praise of Water\, and a chant honoring the venerable Chan Ancestors. This is followed by the drinking of herbal tea\, plus time for conversation.
URL:https://cloudwater.org/event/sunday-morning-zen-meditation-5/2027-08-15/
CATEGORIES:Meditation
ATTACH;FMTTYPE=image/png:https://cloudwater.org/wp-content/uploads/2024/12/2025-Sunday-Morning-Zen-Meditation.png
END:VEVENT
BEGIN:VEVENT
DTSTART;TZID=America/New_York:20270817T190000
DTEND;TZID=America/New_York:20270817T203000
DTSTAMP:20260425T095205
CREATED:20251210T131831Z
LAST-MODIFIED:20260125T130111Z
UID:10006279-1818529200-1818534600@cloudwater.org
SUMMARY:Tuesday Evening Group Meditation
DESCRIPTION:Group meditative practice is the beating heart of any Zen Center. Our group Zen practice\, which begins at 7:00 p.m. on Tuesdays\, includes periods of seated meditation and walking meditation. Chanting practice\, a Dharma Talk\, and a discussion are then followed by social tea and conversation.
URL:https://cloudwater.org/event/tuesday-evening-group-meditation-5/2027-08-17/
CATEGORIES:Meditation
ATTACH;FMTTYPE=image/png:https://cloudwater.org/wp-content/uploads/2024/12/Tuesday-Evening-Group-Meditation-2025.png
END:VEVENT
BEGIN:VEVENT
DTSTART;TZID=America/New_York:20270821T090000
DTEND;TZID=America/New_York:20270821T100000
DTSTAMP:20260425T095205
CREATED:20251229T213020Z
LAST-MODIFIED:20260205T124515Z
UID:10007878-1818838800-1818842400@cloudwater.org
SUMMARY:Morning Meditation & Zen Tea
DESCRIPTION:Seated and walking meditation practice followed by the chanting of the Heart Sutra and the silent drinking of tea in the Meditation Hall.
URL:https://cloudwater.org/event/morning-meditation-zen-tea-2-2/2027-08-21/
CATEGORIES:Meditation
ATTACH;FMTTYPE=image/png:https://cloudwater.org/wp-content/uploads/2024/12/2025-Saturday-Morning-Meditation-900am.png
END:VEVENT
BEGIN:VEVENT
DTSTART;TZID=America/New_York:20270822T093000
DTEND;TZID=America/New_York:20270822T103000
DTSTAMP:20260425T095205
CREATED:20251210T134439Z
LAST-MODIFIED:20260205T132934Z
UID:10007025-1818927000-1818930600@cloudwater.org
SUMMARY:Sunday Morning Zen Meditation
DESCRIPTION:Sunday Morning Zen Meditation includes seated and walking practice and a traditional Zen chanting service which includes the Heart Sutra\, the Ten-Verse Life-Prolonging Guanyin Sutra\, the Four Bodhisattva Vows\, the Verse In Praise of Water\, and a chant honoring the venerable Chan Ancestors. This is followed by the drinking of herbal tea\, plus time for conversation.
URL:https://cloudwater.org/event/sunday-morning-zen-meditation-5/2027-08-22/
CATEGORIES:Meditation
ATTACH;FMTTYPE=image/png:https://cloudwater.org/wp-content/uploads/2024/12/2025-Sunday-Morning-Zen-Meditation.png
END:VEVENT
BEGIN:VEVENT
DTSTART;TZID=America/New_York:20270824T190000
DTEND;TZID=America/New_York:20270824T203000
DTSTAMP:20260425T095205
CREATED:20251210T131831Z
LAST-MODIFIED:20260125T130111Z
UID:10006280-1819134000-1819139400@cloudwater.org
SUMMARY:Tuesday Evening Group Meditation
DESCRIPTION:Group meditative practice is the beating heart of any Zen Center. Our group Zen practice\, which begins at 7:00 p.m. on Tuesdays\, includes periods of seated meditation and walking meditation. Chanting practice\, a Dharma Talk\, and a discussion are then followed by social tea and conversation.
URL:https://cloudwater.org/event/tuesday-evening-group-meditation-5/2027-08-24/
CATEGORIES:Meditation
ATTACH;FMTTYPE=image/png:https://cloudwater.org/wp-content/uploads/2024/12/Tuesday-Evening-Group-Meditation-2025.png
END:VEVENT
BEGIN:VEVENT
DTSTART;TZID=America/New_York:20270828T090000
DTEND;TZID=America/New_York:20270828T100000
DTSTAMP:20260425T095205
CREATED:20251229T213020Z
LAST-MODIFIED:20260205T124515Z
UID:10007879-1819443600-1819447200@cloudwater.org
SUMMARY:Morning Meditation & Zen Tea
DESCRIPTION:Seated and walking meditation practice followed by the chanting of the Heart Sutra and the silent drinking of tea in the Meditation Hall.
URL:https://cloudwater.org/event/morning-meditation-zen-tea-2-2/2027-08-28/
CATEGORIES:Meditation
ATTACH;FMTTYPE=image/png:https://cloudwater.org/wp-content/uploads/2024/12/2025-Saturday-Morning-Meditation-900am.png
END:VEVENT
BEGIN:VEVENT
DTSTART;TZID=America/New_York:20270829T093000
DTEND;TZID=America/New_York:20270829T103000
DTSTAMP:20260425T095205
CREATED:20251210T134439Z
LAST-MODIFIED:20260205T132934Z
UID:10007026-1819531800-1819535400@cloudwater.org
SUMMARY:Sunday Morning Zen Meditation
DESCRIPTION:Sunday Morning Zen Meditation includes seated and walking practice and a traditional Zen chanting service which includes the Heart Sutra\, the Ten-Verse Life-Prolonging Guanyin Sutra\, the Four Bodhisattva Vows\, the Verse In Praise of Water\, and a chant honoring the venerable Chan Ancestors. This is followed by the drinking of herbal tea\, plus time for conversation.
URL:https://cloudwater.org/event/sunday-morning-zen-meditation-5/2027-08-29/
CATEGORIES:Meditation
ATTACH;FMTTYPE=image/png:https://cloudwater.org/wp-content/uploads/2024/12/2025-Sunday-Morning-Zen-Meditation.png
END:VEVENT
BEGIN:VEVENT
DTSTART;TZID=America/New_York:20270831T190000
DTEND;TZID=America/New_York:20270831T203000
DTSTAMP:20260425T095205
CREATED:20251210T131831Z
LAST-MODIFIED:20260125T130111Z
UID:10006281-1819738800-1819744200@cloudwater.org
SUMMARY:Tuesday Evening Group Meditation
DESCRIPTION:Group meditative practice is the beating heart of any Zen Center. Our group Zen practice\, which begins at 7:00 p.m. on Tuesdays\, includes periods of seated meditation and walking meditation. Chanting practice\, a Dharma Talk\, and a discussion are then followed by social tea and conversation.
URL:https://cloudwater.org/event/tuesday-evening-group-meditation-5/2027-08-31/
CATEGORIES:Meditation
ATTACH;FMTTYPE=image/png:https://cloudwater.org/wp-content/uploads/2024/12/Tuesday-Evening-Group-Meditation-2025.png
END:VEVENT
BEGIN:VEVENT
DTSTART;TZID=America/New_York:20270904T090000
DTEND;TZID=America/New_York:20270904T100000
DTSTAMP:20260425T095205
CREATED:20251229T213020Z
LAST-MODIFIED:20260205T124515Z
UID:10007880-1820048400-1820052000@cloudwater.org
SUMMARY:Morning Meditation & Zen Tea
DESCRIPTION:Seated and walking meditation practice followed by the chanting of the Heart Sutra and the silent drinking of tea in the Meditation Hall.
URL:https://cloudwater.org/event/morning-meditation-zen-tea-2-2/2027-09-04/
CATEGORIES:Meditation
ATTACH;FMTTYPE=image/png:https://cloudwater.org/wp-content/uploads/2024/12/2025-Saturday-Morning-Meditation-900am.png
END:VEVENT
BEGIN:VEVENT
DTSTART;TZID=America/New_York:20270905T093000
DTEND;TZID=America/New_York:20270905T103000
DTSTAMP:20260425T095205
CREATED:20251210T134439Z
LAST-MODIFIED:20260205T132934Z
UID:10007027-1820136600-1820140200@cloudwater.org
SUMMARY:Sunday Morning Zen Meditation
DESCRIPTION:Sunday Morning Zen Meditation includes seated and walking practice and a traditional Zen chanting service which includes the Heart Sutra\, the Ten-Verse Life-Prolonging Guanyin Sutra\, the Four Bodhisattva Vows\, the Verse In Praise of Water\, and a chant honoring the venerable Chan Ancestors. This is followed by the drinking of herbal tea\, plus time for conversation.
URL:https://cloudwater.org/event/sunday-morning-zen-meditation-5/2027-09-05/
CATEGORIES:Meditation
ATTACH;FMTTYPE=image/png:https://cloudwater.org/wp-content/uploads/2024/12/2025-Sunday-Morning-Zen-Meditation.png
END:VEVENT
BEGIN:VEVENT
DTSTART;TZID=America/New_York:20270907T190000
DTEND;TZID=America/New_York:20270907T203000
DTSTAMP:20260425T095205
CREATED:20251210T131831Z
LAST-MODIFIED:20260125T130111Z
UID:10006282-1820343600-1820349000@cloudwater.org
SUMMARY:Tuesday Evening Group Meditation
DESCRIPTION:Group meditative practice is the beating heart of any Zen Center. Our group Zen practice\, which begins at 7:00 p.m. on Tuesdays\, includes periods of seated meditation and walking meditation. Chanting practice\, a Dharma Talk\, and a discussion are then followed by social tea and conversation.
URL:https://cloudwater.org/event/tuesday-evening-group-meditation-5/2027-09-07/
CATEGORIES:Meditation
ATTACH;FMTTYPE=image/png:https://cloudwater.org/wp-content/uploads/2024/12/Tuesday-Evening-Group-Meditation-2025.png
END:VEVENT
BEGIN:VEVENT
DTSTART;TZID=America/New_York:20270911T090000
DTEND;TZID=America/New_York:20270911T100000
DTSTAMP:20260425T095205
CREATED:20251229T213020Z
LAST-MODIFIED:20260205T124515Z
UID:10007881-1820653200-1820656800@cloudwater.org
SUMMARY:Morning Meditation & Zen Tea
DESCRIPTION:Seated and walking meditation practice followed by the chanting of the Heart Sutra and the silent drinking of tea in the Meditation Hall.
URL:https://cloudwater.org/event/morning-meditation-zen-tea-2-2/2027-09-11/
CATEGORIES:Meditation
ATTACH;FMTTYPE=image/png:https://cloudwater.org/wp-content/uploads/2024/12/2025-Saturday-Morning-Meditation-900am.png
END:VEVENT
BEGIN:VEVENT
DTSTART;TZID=America/New_York:20270912T093000
DTEND;TZID=America/New_York:20270912T103000
DTSTAMP:20260425T095205
CREATED:20251210T134439Z
LAST-MODIFIED:20260205T132934Z
UID:10007028-1820741400-1820745000@cloudwater.org
SUMMARY:Sunday Morning Zen Meditation
DESCRIPTION:Sunday Morning Zen Meditation includes seated and walking practice and a traditional Zen chanting service which includes the Heart Sutra\, the Ten-Verse Life-Prolonging Guanyin Sutra\, the Four Bodhisattva Vows\, the Verse In Praise of Water\, and a chant honoring the venerable Chan Ancestors. This is followed by the drinking of herbal tea\, plus time for conversation.
URL:https://cloudwater.org/event/sunday-morning-zen-meditation-5/2027-09-12/
CATEGORIES:Meditation
ATTACH;FMTTYPE=image/png:https://cloudwater.org/wp-content/uploads/2024/12/2025-Sunday-Morning-Zen-Meditation.png
END:VEVENT
BEGIN:VEVENT
DTSTART;TZID=America/New_York:20270914T190000
DTEND;TZID=America/New_York:20270914T203000
DTSTAMP:20260425T095205
CREATED:20251210T131831Z
LAST-MODIFIED:20260125T130111Z
UID:10006283-1820948400-1820953800@cloudwater.org
SUMMARY:Tuesday Evening Group Meditation
DESCRIPTION:Group meditative practice is the beating heart of any Zen Center. Our group Zen practice\, which begins at 7:00 p.m. on Tuesdays\, includes periods of seated meditation and walking meditation. Chanting practice\, a Dharma Talk\, and a discussion are then followed by social tea and conversation.
URL:https://cloudwater.org/event/tuesday-evening-group-meditation-5/2027-09-14/
CATEGORIES:Meditation
ATTACH;FMTTYPE=image/png:https://cloudwater.org/wp-content/uploads/2024/12/Tuesday-Evening-Group-Meditation-2025.png
END:VEVENT
BEGIN:VEVENT
DTSTART;TZID=America/New_York:20270918T090000
DTEND;TZID=America/New_York:20270918T100000
DTSTAMP:20260425T095205
CREATED:20251229T213020Z
LAST-MODIFIED:20260205T124515Z
UID:10007882-1821258000-1821261600@cloudwater.org
SUMMARY:Morning Meditation & Zen Tea
DESCRIPTION:Seated and walking meditation practice followed by the chanting of the Heart Sutra and the silent drinking of tea in the Meditation Hall.
URL:https://cloudwater.org/event/morning-meditation-zen-tea-2-2/2027-09-18/
CATEGORIES:Meditation
ATTACH;FMTTYPE=image/png:https://cloudwater.org/wp-content/uploads/2024/12/2025-Saturday-Morning-Meditation-900am.png
END:VEVENT
BEGIN:VEVENT
DTSTART;TZID=America/New_York:20270919T093000
DTEND;TZID=America/New_York:20270919T103000
DTSTAMP:20260425T095205
CREATED:20251210T134439Z
LAST-MODIFIED:20260205T132934Z
UID:10007029-1821346200-1821349800@cloudwater.org
SUMMARY:Sunday Morning Zen Meditation
DESCRIPTION:Sunday Morning Zen Meditation includes seated and walking practice and a traditional Zen chanting service which includes the Heart Sutra\, the Ten-Verse Life-Prolonging Guanyin Sutra\, the Four Bodhisattva Vows\, the Verse In Praise of Water\, and a chant honoring the venerable Chan Ancestors. This is followed by the drinking of herbal tea\, plus time for conversation.
URL:https://cloudwater.org/event/sunday-morning-zen-meditation-5/2027-09-19/
CATEGORIES:Meditation
ATTACH;FMTTYPE=image/png:https://cloudwater.org/wp-content/uploads/2024/12/2025-Sunday-Morning-Zen-Meditation.png
END:VEVENT
BEGIN:VEVENT
DTSTART;TZID=America/New_York:20270921T190000
DTEND;TZID=America/New_York:20270921T203000
DTSTAMP:20260425T095205
CREATED:20251210T131831Z
LAST-MODIFIED:20260125T130111Z
UID:10006284-1821553200-1821558600@cloudwater.org
SUMMARY:Tuesday Evening Group Meditation
DESCRIPTION:Group meditative practice is the beating heart of any Zen Center. Our group Zen practice\, which begins at 7:00 p.m. on Tuesdays\, includes periods of seated meditation and walking meditation. Chanting practice\, a Dharma Talk\, and a discussion are then followed by social tea and conversation.
URL:https://cloudwater.org/event/tuesday-evening-group-meditation-5/2027-09-21/
CATEGORIES:Meditation
ATTACH;FMTTYPE=image/png:https://cloudwater.org/wp-content/uploads/2024/12/Tuesday-Evening-Group-Meditation-2025.png
END:VEVENT
BEGIN:VEVENT
DTSTART;TZID=America/New_York:20270925T090000
DTEND;TZID=America/New_York:20270925T100000
DTSTAMP:20260425T095205
CREATED:20251229T213020Z
LAST-MODIFIED:20260205T124515Z
UID:10007883-1821862800-1821866400@cloudwater.org
SUMMARY:Morning Meditation & Zen Tea
DESCRIPTION:Seated and walking meditation practice followed by the chanting of the Heart Sutra and the silent drinking of tea in the Meditation Hall.
URL:https://cloudwater.org/event/morning-meditation-zen-tea-2-2/2027-09-25/
CATEGORIES:Meditation
ATTACH;FMTTYPE=image/png:https://cloudwater.org/wp-content/uploads/2024/12/2025-Saturday-Morning-Meditation-900am.png
END:VEVENT
BEGIN:VEVENT
DTSTART;TZID=America/New_York:20270926T093000
DTEND;TZID=America/New_York:20270926T103000
DTSTAMP:20260425T095205
CREATED:20251210T134439Z
LAST-MODIFIED:20260205T132934Z
UID:10007030-1821951000-1821954600@cloudwater.org
SUMMARY:Sunday Morning Zen Meditation
DESCRIPTION:Sunday Morning Zen Meditation includes seated and walking practice and a traditional Zen chanting service which includes the Heart Sutra\, the Ten-Verse Life-Prolonging Guanyin Sutra\, the Four Bodhisattva Vows\, the Verse In Praise of Water\, and a chant honoring the venerable Chan Ancestors. This is followed by the drinking of herbal tea\, plus time for conversation.
URL:https://cloudwater.org/event/sunday-morning-zen-meditation-5/2027-09-26/
CATEGORIES:Meditation
ATTACH;FMTTYPE=image/png:https://cloudwater.org/wp-content/uploads/2024/12/2025-Sunday-Morning-Zen-Meditation.png
END:VEVENT
BEGIN:VEVENT
DTSTART;TZID=America/New_York:20270928T190000
DTEND;TZID=America/New_York:20270928T203000
DTSTAMP:20260425T095205
CREATED:20251210T131831Z
LAST-MODIFIED:20260125T130111Z
UID:10006285-1822158000-1822163400@cloudwater.org
SUMMARY:Tuesday Evening Group Meditation
DESCRIPTION:Group meditative practice is the beating heart of any Zen Center. Our group Zen practice\, which begins at 7:00 p.m. on Tuesdays\, includes periods of seated meditation and walking meditation. Chanting practice\, a Dharma Talk\, and a discussion are then followed by social tea and conversation.
URL:https://cloudwater.org/event/tuesday-evening-group-meditation-5/2027-09-28/
CATEGORIES:Meditation
ATTACH;FMTTYPE=image/png:https://cloudwater.org/wp-content/uploads/2024/12/Tuesday-Evening-Group-Meditation-2025.png
END:VEVENT
BEGIN:VEVENT
DTSTART;TZID=America/New_York:20271002T090000
DTEND;TZID=America/New_York:20271002T100000
DTSTAMP:20260425T095205
CREATED:20251229T213020Z
LAST-MODIFIED:20260205T124515Z
UID:10007884-1822467600-1822471200@cloudwater.org
SUMMARY:Morning Meditation & Zen Tea
DESCRIPTION:Seated and walking meditation practice followed by the chanting of the Heart Sutra and the silent drinking of tea in the Meditation Hall.
URL:https://cloudwater.org/event/morning-meditation-zen-tea-2-2/2027-10-02/
CATEGORIES:Meditation
ATTACH;FMTTYPE=image/png:https://cloudwater.org/wp-content/uploads/2024/12/2025-Saturday-Morning-Meditation-900am.png
END:VEVENT
BEGIN:VEVENT
DTSTART;TZID=America/New_York:20271003T093000
DTEND;TZID=America/New_York:20271003T103000
DTSTAMP:20260425T095206
CREATED:20251210T134439Z
LAST-MODIFIED:20260205T132934Z
UID:10007031-1822555800-1822559400@cloudwater.org
SUMMARY:Sunday Morning Zen Meditation
DESCRIPTION:Sunday Morning Zen Meditation includes seated and walking practice and a traditional Zen chanting service which includes the Heart Sutra\, the Ten-Verse Life-Prolonging Guanyin Sutra\, the Four Bodhisattva Vows\, the Verse In Praise of Water\, and a chant honoring the venerable Chan Ancestors. This is followed by the drinking of herbal tea\, plus time for conversation.
URL:https://cloudwater.org/event/sunday-morning-zen-meditation-5/2027-10-03/
CATEGORIES:Meditation
ATTACH;FMTTYPE=image/png:https://cloudwater.org/wp-content/uploads/2024/12/2025-Sunday-Morning-Zen-Meditation.png
END:VEVENT
BEGIN:VEVENT
DTSTART;TZID=America/New_York:20271005T190000
DTEND;TZID=America/New_York:20271005T203000
DTSTAMP:20260425T095206
CREATED:20251210T131831Z
LAST-MODIFIED:20260125T130111Z
UID:10006286-1822762800-1822768200@cloudwater.org
SUMMARY:Tuesday Evening Group Meditation
DESCRIPTION:Group meditative practice is the beating heart of any Zen Center. Our group Zen practice\, which begins at 7:00 p.m. on Tuesdays\, includes periods of seated meditation and walking meditation. Chanting practice\, a Dharma Talk\, and a discussion are then followed by social tea and conversation.
URL:https://cloudwater.org/event/tuesday-evening-group-meditation-5/2027-10-05/
CATEGORIES:Meditation
ATTACH;FMTTYPE=image/png:https://cloudwater.org/wp-content/uploads/2024/12/Tuesday-Evening-Group-Meditation-2025.png
END:VEVENT
BEGIN:VEVENT
DTSTART;TZID=America/New_York:20271009T090000
DTEND;TZID=America/New_York:20271009T100000
DTSTAMP:20260425T095206
CREATED:20251229T213020Z
LAST-MODIFIED:20260205T124515Z
UID:10007885-1823072400-1823076000@cloudwater.org
SUMMARY:Morning Meditation & Zen Tea
DESCRIPTION:Seated and walking meditation practice followed by the chanting of the Heart Sutra and the silent drinking of tea in the Meditation Hall.
URL:https://cloudwater.org/event/morning-meditation-zen-tea-2-2/2027-10-09/
CATEGORIES:Meditation
ATTACH;FMTTYPE=image/png:https://cloudwater.org/wp-content/uploads/2024/12/2025-Saturday-Morning-Meditation-900am.png
END:VEVENT
BEGIN:VEVENT
DTSTART;TZID=America/New_York:20271010T093000
DTEND;TZID=America/New_York:20271010T103000
DTSTAMP:20260425T095206
CREATED:20251210T134439Z
LAST-MODIFIED:20260205T132934Z
UID:10007032-1823160600-1823164200@cloudwater.org
SUMMARY:Sunday Morning Zen Meditation
DESCRIPTION:Sunday Morning Zen Meditation includes seated and walking practice and a traditional Zen chanting service which includes the Heart Sutra\, the Ten-Verse Life-Prolonging Guanyin Sutra\, the Four Bodhisattva Vows\, the Verse In Praise of Water\, and a chant honoring the venerable Chan Ancestors. This is followed by the drinking of herbal tea\, plus time for conversation.
URL:https://cloudwater.org/event/sunday-morning-zen-meditation-5/2027-10-10/
CATEGORIES:Meditation
ATTACH;FMTTYPE=image/png:https://cloudwater.org/wp-content/uploads/2024/12/2025-Sunday-Morning-Zen-Meditation.png
END:VEVENT
END:VCALENDAR