BEGIN:VCALENDAR
VERSION:2.0
PRODID:-//CloudWater Zendo - ECPv6.15.20//NONSGML v1.0//EN
CALSCALE:GREGORIAN
METHOD:PUBLISH
X-WR-CALNAME:CloudWater Zendo
X-ORIGINAL-URL:https://cloudwater.org
X-WR-CALDESC:Events for CloudWater Zendo
REFRESH-INTERVAL;VALUE=DURATION:PT1H
X-Robots-Tag:noindex
X-PUBLISHED-TTL:PT1H
BEGIN:VTIMEZONE
TZID:America/New_York
BEGIN:DAYLIGHT
TZOFFSETFROM:-0500
TZOFFSETTO:-0400
TZNAME:EDT
DTSTART:20260308T070000
END:DAYLIGHT
BEGIN:STANDARD
TZOFFSETFROM:-0400
TZOFFSETTO:-0500
TZNAME:EST
DTSTART:20261101T060000
END:STANDARD
BEGIN:DAYLIGHT
TZOFFSETFROM:-0500
TZOFFSETTO:-0400
TZNAME:EDT
DTSTART:20270314T070000
END:DAYLIGHT
BEGIN:STANDARD
TZOFFSETFROM:-0400
TZOFFSETTO:-0500
TZNAME:EST
DTSTART:20271107T060000
END:STANDARD
BEGIN:DAYLIGHT
TZOFFSETFROM:-0500
TZOFFSETTO:-0400
TZNAME:EDT
DTSTART:20280312T070000
END:DAYLIGHT
BEGIN:STANDARD
TZOFFSETFROM:-0400
TZOFFSETTO:-0500
TZNAME:EST
DTSTART:20281105T060000
END:STANDARD
END:VTIMEZONE
BEGIN:VEVENT
DTSTART;TZID=America/New_York:20270511T190000
DTEND;TZID=America/New_York:20270511T203000
DTSTAMP:20260424T204417
CREATED:20251210T131831Z
LAST-MODIFIED:20260125T130111Z
UID:10006265-1810062000-1810067400@cloudwater.org
SUMMARY:Tuesday Evening Group Meditation
DESCRIPTION:Group meditative practice is the beating heart of any Zen Center. Our group Zen practice\, which begins at 7:00 p.m. on Tuesdays\, includes periods of seated meditation and walking meditation. Chanting practice\, a Dharma Talk\, and a discussion are then followed by social tea and conversation.
URL:https://cloudwater.org/event/tuesday-evening-group-meditation-5/2027-05-11/
CATEGORIES:Meditation
ATTACH;FMTTYPE=image/png:https://cloudwater.org/wp-content/uploads/2024/12/Tuesday-Evening-Group-Meditation-2025.png
END:VEVENT
BEGIN:VEVENT
DTSTART;TZID=America/New_York:20270515T090000
DTEND;TZID=America/New_York:20270515T100000
DTSTAMP:20260424T204417
CREATED:20251229T213020Z
LAST-MODIFIED:20260205T124515Z
UID:10007864-1810371600-1810375200@cloudwater.org
SUMMARY:Morning Meditation & Zen Tea
DESCRIPTION:Seated and walking meditation practice followed by the chanting of the Heart Sutra and the silent drinking of tea in the Meditation Hall.
URL:https://cloudwater.org/event/morning-meditation-zen-tea-2-2/2027-05-15/
CATEGORIES:Meditation
ATTACH;FMTTYPE=image/png:https://cloudwater.org/wp-content/uploads/2024/12/2025-Saturday-Morning-Meditation-900am.png
END:VEVENT
BEGIN:VEVENT
DTSTART;TZID=America/New_York:20270516T093000
DTEND;TZID=America/New_York:20270516T103000
DTSTAMP:20260424T204417
CREATED:20251210T134439Z
LAST-MODIFIED:20260205T132934Z
UID:10007011-1810459800-1810463400@cloudwater.org
SUMMARY:Sunday Morning Zen Meditation
DESCRIPTION:Sunday Morning Zen Meditation includes seated and walking practice and a traditional Zen chanting service which includes the Heart Sutra\, the Ten-Verse Life-Prolonging Guanyin Sutra\, the Four Bodhisattva Vows\, the Verse In Praise of Water\, and a chant honoring the venerable Chan Ancestors. This is followed by the drinking of herbal tea\, plus time for conversation.
URL:https://cloudwater.org/event/sunday-morning-zen-meditation-5/2027-05-16/
CATEGORIES:Meditation
ATTACH;FMTTYPE=image/png:https://cloudwater.org/wp-content/uploads/2024/12/2025-Sunday-Morning-Zen-Meditation.png
END:VEVENT
BEGIN:VEVENT
DTSTART;TZID=America/New_York:20270518T190000
DTEND;TZID=America/New_York:20270518T203000
DTSTAMP:20260424T204417
CREATED:20251210T131831Z
LAST-MODIFIED:20260125T130111Z
UID:10006266-1810666800-1810672200@cloudwater.org
SUMMARY:Tuesday Evening Group Meditation
DESCRIPTION:Group meditative practice is the beating heart of any Zen Center. Our group Zen practice\, which begins at 7:00 p.m. on Tuesdays\, includes periods of seated meditation and walking meditation. Chanting practice\, a Dharma Talk\, and a discussion are then followed by social tea and conversation.
URL:https://cloudwater.org/event/tuesday-evening-group-meditation-5/2027-05-18/
CATEGORIES:Meditation
ATTACH;FMTTYPE=image/png:https://cloudwater.org/wp-content/uploads/2024/12/Tuesday-Evening-Group-Meditation-2025.png
END:VEVENT
BEGIN:VEVENT
DTSTART;TZID=America/New_York:20270522T090000
DTEND;TZID=America/New_York:20270522T100000
DTSTAMP:20260424T204417
CREATED:20251229T213020Z
LAST-MODIFIED:20260205T124515Z
UID:10007865-1810976400-1810980000@cloudwater.org
SUMMARY:Morning Meditation & Zen Tea
DESCRIPTION:Seated and walking meditation practice followed by the chanting of the Heart Sutra and the silent drinking of tea in the Meditation Hall.
URL:https://cloudwater.org/event/morning-meditation-zen-tea-2-2/2027-05-22/
CATEGORIES:Meditation
ATTACH;FMTTYPE=image/png:https://cloudwater.org/wp-content/uploads/2024/12/2025-Saturday-Morning-Meditation-900am.png
END:VEVENT
BEGIN:VEVENT
DTSTART;TZID=America/New_York:20270523T093000
DTEND;TZID=America/New_York:20270523T103000
DTSTAMP:20260424T204417
CREATED:20251210T134439Z
LAST-MODIFIED:20260205T132934Z
UID:10007012-1811064600-1811068200@cloudwater.org
SUMMARY:Sunday Morning Zen Meditation
DESCRIPTION:Sunday Morning Zen Meditation includes seated and walking practice and a traditional Zen chanting service which includes the Heart Sutra\, the Ten-Verse Life-Prolonging Guanyin Sutra\, the Four Bodhisattva Vows\, the Verse In Praise of Water\, and a chant honoring the venerable Chan Ancestors. This is followed by the drinking of herbal tea\, plus time for conversation.
URL:https://cloudwater.org/event/sunday-morning-zen-meditation-5/2027-05-23/
CATEGORIES:Meditation
ATTACH;FMTTYPE=image/png:https://cloudwater.org/wp-content/uploads/2024/12/2025-Sunday-Morning-Zen-Meditation.png
END:VEVENT
BEGIN:VEVENT
DTSTART;TZID=America/New_York:20270525T190000
DTEND;TZID=America/New_York:20270525T203000
DTSTAMP:20260424T204417
CREATED:20251210T131831Z
LAST-MODIFIED:20260125T130111Z
UID:10006267-1811271600-1811277000@cloudwater.org
SUMMARY:Tuesday Evening Group Meditation
DESCRIPTION:Group meditative practice is the beating heart of any Zen Center. Our group Zen practice\, which begins at 7:00 p.m. on Tuesdays\, includes periods of seated meditation and walking meditation. Chanting practice\, a Dharma Talk\, and a discussion are then followed by social tea and conversation.
URL:https://cloudwater.org/event/tuesday-evening-group-meditation-5/2027-05-25/
CATEGORIES:Meditation
ATTACH;FMTTYPE=image/png:https://cloudwater.org/wp-content/uploads/2024/12/Tuesday-Evening-Group-Meditation-2025.png
END:VEVENT
BEGIN:VEVENT
DTSTART;TZID=America/New_York:20270529T090000
DTEND;TZID=America/New_York:20270529T100000
DTSTAMP:20260424T204417
CREATED:20251229T213020Z
LAST-MODIFIED:20260205T124515Z
UID:10007866-1811581200-1811584800@cloudwater.org
SUMMARY:Morning Meditation & Zen Tea
DESCRIPTION:Seated and walking meditation practice followed by the chanting of the Heart Sutra and the silent drinking of tea in the Meditation Hall.
URL:https://cloudwater.org/event/morning-meditation-zen-tea-2-2/2027-05-29/
CATEGORIES:Meditation
ATTACH;FMTTYPE=image/png:https://cloudwater.org/wp-content/uploads/2024/12/2025-Saturday-Morning-Meditation-900am.png
END:VEVENT
BEGIN:VEVENT
DTSTART;TZID=America/New_York:20270530T093000
DTEND;TZID=America/New_York:20270530T103000
DTSTAMP:20260424T204417
CREATED:20251210T134439Z
LAST-MODIFIED:20260205T132934Z
UID:10007013-1811669400-1811673000@cloudwater.org
SUMMARY:Sunday Morning Zen Meditation
DESCRIPTION:Sunday Morning Zen Meditation includes seated and walking practice and a traditional Zen chanting service which includes the Heart Sutra\, the Ten-Verse Life-Prolonging Guanyin Sutra\, the Four Bodhisattva Vows\, the Verse In Praise of Water\, and a chant honoring the venerable Chan Ancestors. This is followed by the drinking of herbal tea\, plus time for conversation.
URL:https://cloudwater.org/event/sunday-morning-zen-meditation-5/2027-05-30/
CATEGORIES:Meditation
ATTACH;FMTTYPE=image/png:https://cloudwater.org/wp-content/uploads/2024/12/2025-Sunday-Morning-Zen-Meditation.png
END:VEVENT
BEGIN:VEVENT
DTSTART;TZID=America/New_York:20270601T190000
DTEND;TZID=America/New_York:20270601T203000
DTSTAMP:20260424T204417
CREATED:20251210T131831Z
LAST-MODIFIED:20260125T130111Z
UID:10006268-1811876400-1811881800@cloudwater.org
SUMMARY:Tuesday Evening Group Meditation
DESCRIPTION:Group meditative practice is the beating heart of any Zen Center. Our group Zen practice\, which begins at 7:00 p.m. on Tuesdays\, includes periods of seated meditation and walking meditation. Chanting practice\, a Dharma Talk\, and a discussion are then followed by social tea and conversation.
URL:https://cloudwater.org/event/tuesday-evening-group-meditation-5/2027-06-01/
CATEGORIES:Meditation
ATTACH;FMTTYPE=image/png:https://cloudwater.org/wp-content/uploads/2024/12/Tuesday-Evening-Group-Meditation-2025.png
END:VEVENT
BEGIN:VEVENT
DTSTART;TZID=America/New_York:20270605T090000
DTEND;TZID=America/New_York:20270605T100000
DTSTAMP:20260424T204417
CREATED:20251229T213020Z
LAST-MODIFIED:20260205T124515Z
UID:10007867-1812186000-1812189600@cloudwater.org
SUMMARY:Morning Meditation & Zen Tea
DESCRIPTION:Seated and walking meditation practice followed by the chanting of the Heart Sutra and the silent drinking of tea in the Meditation Hall.
URL:https://cloudwater.org/event/morning-meditation-zen-tea-2-2/2027-06-05/
CATEGORIES:Meditation
ATTACH;FMTTYPE=image/png:https://cloudwater.org/wp-content/uploads/2024/12/2025-Saturday-Morning-Meditation-900am.png
END:VEVENT
BEGIN:VEVENT
DTSTART;TZID=America/New_York:20270606T093000
DTEND;TZID=America/New_York:20270606T103000
DTSTAMP:20260424T204417
CREATED:20251210T134439Z
LAST-MODIFIED:20260205T132934Z
UID:10007014-1812274200-1812277800@cloudwater.org
SUMMARY:Sunday Morning Zen Meditation
DESCRIPTION:Sunday Morning Zen Meditation includes seated and walking practice and a traditional Zen chanting service which includes the Heart Sutra\, the Ten-Verse Life-Prolonging Guanyin Sutra\, the Four Bodhisattva Vows\, the Verse In Praise of Water\, and a chant honoring the venerable Chan Ancestors. This is followed by the drinking of herbal tea\, plus time for conversation.
URL:https://cloudwater.org/event/sunday-morning-zen-meditation-5/2027-06-06/
CATEGORIES:Meditation
ATTACH;FMTTYPE=image/png:https://cloudwater.org/wp-content/uploads/2024/12/2025-Sunday-Morning-Zen-Meditation.png
END:VEVENT
BEGIN:VEVENT
DTSTART;TZID=America/New_York:20270608T190000
DTEND;TZID=America/New_York:20270608T203000
DTSTAMP:20260424T204417
CREATED:20251210T131831Z
LAST-MODIFIED:20260125T130111Z
UID:10006269-1812481200-1812486600@cloudwater.org
SUMMARY:Tuesday Evening Group Meditation
DESCRIPTION:Group meditative practice is the beating heart of any Zen Center. Our group Zen practice\, which begins at 7:00 p.m. on Tuesdays\, includes periods of seated meditation and walking meditation. Chanting practice\, a Dharma Talk\, and a discussion are then followed by social tea and conversation.
URL:https://cloudwater.org/event/tuesday-evening-group-meditation-5/2027-06-08/
CATEGORIES:Meditation
ATTACH;FMTTYPE=image/png:https://cloudwater.org/wp-content/uploads/2024/12/Tuesday-Evening-Group-Meditation-2025.png
END:VEVENT
BEGIN:VEVENT
DTSTART;TZID=America/New_York:20270612T090000
DTEND;TZID=America/New_York:20270612T100000
DTSTAMP:20260424T204417
CREATED:20251229T213020Z
LAST-MODIFIED:20260205T124515Z
UID:10007868-1812790800-1812794400@cloudwater.org
SUMMARY:Morning Meditation & Zen Tea
DESCRIPTION:Seated and walking meditation practice followed by the chanting of the Heart Sutra and the silent drinking of tea in the Meditation Hall.
URL:https://cloudwater.org/event/morning-meditation-zen-tea-2-2/2027-06-12/
CATEGORIES:Meditation
ATTACH;FMTTYPE=image/png:https://cloudwater.org/wp-content/uploads/2024/12/2025-Saturday-Morning-Meditation-900am.png
END:VEVENT
BEGIN:VEVENT
DTSTART;TZID=America/New_York:20270613T093000
DTEND;TZID=America/New_York:20270613T103000
DTSTAMP:20260424T204417
CREATED:20251210T134439Z
LAST-MODIFIED:20260205T132934Z
UID:10007015-1812879000-1812882600@cloudwater.org
SUMMARY:Sunday Morning Zen Meditation
DESCRIPTION:Sunday Morning Zen Meditation includes seated and walking practice and a traditional Zen chanting service which includes the Heart Sutra\, the Ten-Verse Life-Prolonging Guanyin Sutra\, the Four Bodhisattva Vows\, the Verse In Praise of Water\, and a chant honoring the venerable Chan Ancestors. This is followed by the drinking of herbal tea\, plus time for conversation.
URL:https://cloudwater.org/event/sunday-morning-zen-meditation-5/2027-06-13/
CATEGORIES:Meditation
ATTACH;FMTTYPE=image/png:https://cloudwater.org/wp-content/uploads/2024/12/2025-Sunday-Morning-Zen-Meditation.png
END:VEVENT
BEGIN:VEVENT
DTSTART;TZID=America/New_York:20270615T190000
DTEND;TZID=America/New_York:20270615T203000
DTSTAMP:20260424T204417
CREATED:20251210T131831Z
LAST-MODIFIED:20260125T130111Z
UID:10006270-1813086000-1813091400@cloudwater.org
SUMMARY:Tuesday Evening Group Meditation
DESCRIPTION:Group meditative practice is the beating heart of any Zen Center. Our group Zen practice\, which begins at 7:00 p.m. on Tuesdays\, includes periods of seated meditation and walking meditation. Chanting practice\, a Dharma Talk\, and a discussion are then followed by social tea and conversation.
URL:https://cloudwater.org/event/tuesday-evening-group-meditation-5/2027-06-15/
CATEGORIES:Meditation
ATTACH;FMTTYPE=image/png:https://cloudwater.org/wp-content/uploads/2024/12/Tuesday-Evening-Group-Meditation-2025.png
END:VEVENT
BEGIN:VEVENT
DTSTART;TZID=America/New_York:20270619T090000
DTEND;TZID=America/New_York:20270619T100000
DTSTAMP:20260424T204417
CREATED:20251229T213020Z
LAST-MODIFIED:20260205T124515Z
UID:10007869-1813395600-1813399200@cloudwater.org
SUMMARY:Morning Meditation & Zen Tea
DESCRIPTION:Seated and walking meditation practice followed by the chanting of the Heart Sutra and the silent drinking of tea in the Meditation Hall.
URL:https://cloudwater.org/event/morning-meditation-zen-tea-2-2/2027-06-19/
CATEGORIES:Meditation
ATTACH;FMTTYPE=image/png:https://cloudwater.org/wp-content/uploads/2024/12/2025-Saturday-Morning-Meditation-900am.png
END:VEVENT
BEGIN:VEVENT
DTSTART;TZID=America/New_York:20270620T093000
DTEND;TZID=America/New_York:20270620T103000
DTSTAMP:20260424T204417
CREATED:20251210T134439Z
LAST-MODIFIED:20260205T132934Z
UID:10007016-1813483800-1813487400@cloudwater.org
SUMMARY:Sunday Morning Zen Meditation
DESCRIPTION:Sunday Morning Zen Meditation includes seated and walking practice and a traditional Zen chanting service which includes the Heart Sutra\, the Ten-Verse Life-Prolonging Guanyin Sutra\, the Four Bodhisattva Vows\, the Verse In Praise of Water\, and a chant honoring the venerable Chan Ancestors. This is followed by the drinking of herbal tea\, plus time for conversation.
URL:https://cloudwater.org/event/sunday-morning-zen-meditation-5/2027-06-20/
CATEGORIES:Meditation
ATTACH;FMTTYPE=image/png:https://cloudwater.org/wp-content/uploads/2024/12/2025-Sunday-Morning-Zen-Meditation.png
END:VEVENT
BEGIN:VEVENT
DTSTART;TZID=America/New_York:20270622T190000
DTEND;TZID=America/New_York:20270622T203000
DTSTAMP:20260424T204417
CREATED:20251210T131831Z
LAST-MODIFIED:20260125T130111Z
UID:10006271-1813690800-1813696200@cloudwater.org
SUMMARY:Tuesday Evening Group Meditation
DESCRIPTION:Group meditative practice is the beating heart of any Zen Center. Our group Zen practice\, which begins at 7:00 p.m. on Tuesdays\, includes periods of seated meditation and walking meditation. Chanting practice\, a Dharma Talk\, and a discussion are then followed by social tea and conversation.
URL:https://cloudwater.org/event/tuesday-evening-group-meditation-5/2027-06-22/
CATEGORIES:Meditation
ATTACH;FMTTYPE=image/png:https://cloudwater.org/wp-content/uploads/2024/12/Tuesday-Evening-Group-Meditation-2025.png
END:VEVENT
BEGIN:VEVENT
DTSTART;TZID=America/New_York:20270626T090000
DTEND;TZID=America/New_York:20270626T100000
DTSTAMP:20260424T204417
CREATED:20251229T213020Z
LAST-MODIFIED:20260205T124515Z
UID:10007870-1814000400-1814004000@cloudwater.org
SUMMARY:Morning Meditation & Zen Tea
DESCRIPTION:Seated and walking meditation practice followed by the chanting of the Heart Sutra and the silent drinking of tea in the Meditation Hall.
URL:https://cloudwater.org/event/morning-meditation-zen-tea-2-2/2027-06-26/
CATEGORIES:Meditation
ATTACH;FMTTYPE=image/png:https://cloudwater.org/wp-content/uploads/2024/12/2025-Saturday-Morning-Meditation-900am.png
END:VEVENT
BEGIN:VEVENT
DTSTART;TZID=America/New_York:20270627T093000
DTEND;TZID=America/New_York:20270627T103000
DTSTAMP:20260424T204417
CREATED:20251210T134439Z
LAST-MODIFIED:20260205T132934Z
UID:10007017-1814088600-1814092200@cloudwater.org
SUMMARY:Sunday Morning Zen Meditation
DESCRIPTION:Sunday Morning Zen Meditation includes seated and walking practice and a traditional Zen chanting service which includes the Heart Sutra\, the Ten-Verse Life-Prolonging Guanyin Sutra\, the Four Bodhisattva Vows\, the Verse In Praise of Water\, and a chant honoring the venerable Chan Ancestors. This is followed by the drinking of herbal tea\, plus time for conversation.
URL:https://cloudwater.org/event/sunday-morning-zen-meditation-5/2027-06-27/
CATEGORIES:Meditation
ATTACH;FMTTYPE=image/png:https://cloudwater.org/wp-content/uploads/2024/12/2025-Sunday-Morning-Zen-Meditation.png
END:VEVENT
BEGIN:VEVENT
DTSTART;TZID=America/New_York:20270629T190000
DTEND;TZID=America/New_York:20270629T203000
DTSTAMP:20260424T204417
CREATED:20251210T131831Z
LAST-MODIFIED:20260125T130111Z
UID:10006272-1814295600-1814301000@cloudwater.org
SUMMARY:Tuesday Evening Group Meditation
DESCRIPTION:Group meditative practice is the beating heart of any Zen Center. Our group Zen practice\, which begins at 7:00 p.m. on Tuesdays\, includes periods of seated meditation and walking meditation. Chanting practice\, a Dharma Talk\, and a discussion are then followed by social tea and conversation.
URL:https://cloudwater.org/event/tuesday-evening-group-meditation-5/2027-06-29/
CATEGORIES:Meditation
ATTACH;FMTTYPE=image/png:https://cloudwater.org/wp-content/uploads/2024/12/Tuesday-Evening-Group-Meditation-2025.png
END:VEVENT
BEGIN:VEVENT
DTSTART;TZID=America/New_York:20270703T090000
DTEND;TZID=America/New_York:20270703T100000
DTSTAMP:20260424T204417
CREATED:20251229T213020Z
LAST-MODIFIED:20260205T124515Z
UID:10007871-1814605200-1814608800@cloudwater.org
SUMMARY:Morning Meditation & Zen Tea
DESCRIPTION:Seated and walking meditation practice followed by the chanting of the Heart Sutra and the silent drinking of tea in the Meditation Hall.
URL:https://cloudwater.org/event/morning-meditation-zen-tea-2-2/2027-07-03/
CATEGORIES:Meditation
ATTACH;FMTTYPE=image/png:https://cloudwater.org/wp-content/uploads/2024/12/2025-Saturday-Morning-Meditation-900am.png
END:VEVENT
BEGIN:VEVENT
DTSTART;TZID=America/New_York:20270704T093000
DTEND;TZID=America/New_York:20270704T103000
DTSTAMP:20260424T204417
CREATED:20251210T134439Z
LAST-MODIFIED:20260205T132934Z
UID:10007018-1814693400-1814697000@cloudwater.org
SUMMARY:Sunday Morning Zen Meditation
DESCRIPTION:Sunday Morning Zen Meditation includes seated and walking practice and a traditional Zen chanting service which includes the Heart Sutra\, the Ten-Verse Life-Prolonging Guanyin Sutra\, the Four Bodhisattva Vows\, the Verse In Praise of Water\, and a chant honoring the venerable Chan Ancestors. This is followed by the drinking of herbal tea\, plus time for conversation.
URL:https://cloudwater.org/event/sunday-morning-zen-meditation-5/2027-07-04/
CATEGORIES:Meditation
ATTACH;FMTTYPE=image/png:https://cloudwater.org/wp-content/uploads/2024/12/2025-Sunday-Morning-Zen-Meditation.png
END:VEVENT
BEGIN:VEVENT
DTSTART;TZID=America/New_York:20270706T190000
DTEND;TZID=America/New_York:20270706T203000
DTSTAMP:20260424T204417
CREATED:20251210T131831Z
LAST-MODIFIED:20260125T130111Z
UID:10006273-1814900400-1814905800@cloudwater.org
SUMMARY:Tuesday Evening Group Meditation
DESCRIPTION:Group meditative practice is the beating heart of any Zen Center. Our group Zen practice\, which begins at 7:00 p.m. on Tuesdays\, includes periods of seated meditation and walking meditation. Chanting practice\, a Dharma Talk\, and a discussion are then followed by social tea and conversation.
URL:https://cloudwater.org/event/tuesday-evening-group-meditation-5/2027-07-06/
CATEGORIES:Meditation
ATTACH;FMTTYPE=image/png:https://cloudwater.org/wp-content/uploads/2024/12/Tuesday-Evening-Group-Meditation-2025.png
END:VEVENT
BEGIN:VEVENT
DTSTART;TZID=America/New_York:20270710T090000
DTEND;TZID=America/New_York:20270710T100000
DTSTAMP:20260424T204417
CREATED:20251229T213020Z
LAST-MODIFIED:20260205T124515Z
UID:10007872-1815210000-1815213600@cloudwater.org
SUMMARY:Morning Meditation & Zen Tea
DESCRIPTION:Seated and walking meditation practice followed by the chanting of the Heart Sutra and the silent drinking of tea in the Meditation Hall.
URL:https://cloudwater.org/event/morning-meditation-zen-tea-2-2/2027-07-10/
CATEGORIES:Meditation
ATTACH;FMTTYPE=image/png:https://cloudwater.org/wp-content/uploads/2024/12/2025-Saturday-Morning-Meditation-900am.png
END:VEVENT
BEGIN:VEVENT
DTSTART;TZID=America/New_York:20270711T093000
DTEND;TZID=America/New_York:20270711T103000
DTSTAMP:20260424T204417
CREATED:20251210T134439Z
LAST-MODIFIED:20260205T132934Z
UID:10007019-1815298200-1815301800@cloudwater.org
SUMMARY:Sunday Morning Zen Meditation
DESCRIPTION:Sunday Morning Zen Meditation includes seated and walking practice and a traditional Zen chanting service which includes the Heart Sutra\, the Ten-Verse Life-Prolonging Guanyin Sutra\, the Four Bodhisattva Vows\, the Verse In Praise of Water\, and a chant honoring the venerable Chan Ancestors. This is followed by the drinking of herbal tea\, plus time for conversation.
URL:https://cloudwater.org/event/sunday-morning-zen-meditation-5/2027-07-11/
CATEGORIES:Meditation
ATTACH;FMTTYPE=image/png:https://cloudwater.org/wp-content/uploads/2024/12/2025-Sunday-Morning-Zen-Meditation.png
END:VEVENT
BEGIN:VEVENT
DTSTART;TZID=America/New_York:20270713T190000
DTEND;TZID=America/New_York:20270713T203000
DTSTAMP:20260424T204417
CREATED:20251210T131831Z
LAST-MODIFIED:20260125T130111Z
UID:10006274-1815505200-1815510600@cloudwater.org
SUMMARY:Tuesday Evening Group Meditation
DESCRIPTION:Group meditative practice is the beating heart of any Zen Center. Our group Zen practice\, which begins at 7:00 p.m. on Tuesdays\, includes periods of seated meditation and walking meditation. Chanting practice\, a Dharma Talk\, and a discussion are then followed by social tea and conversation.
URL:https://cloudwater.org/event/tuesday-evening-group-meditation-5/2027-07-13/
CATEGORIES:Meditation
ATTACH;FMTTYPE=image/png:https://cloudwater.org/wp-content/uploads/2024/12/Tuesday-Evening-Group-Meditation-2025.png
END:VEVENT
BEGIN:VEVENT
DTSTART;TZID=America/New_York:20270717T090000
DTEND;TZID=America/New_York:20270717T100000
DTSTAMP:20260424T204417
CREATED:20251229T213020Z
LAST-MODIFIED:20260205T124515Z
UID:10007873-1815814800-1815818400@cloudwater.org
SUMMARY:Morning Meditation & Zen Tea
DESCRIPTION:Seated and walking meditation practice followed by the chanting of the Heart Sutra and the silent drinking of tea in the Meditation Hall.
URL:https://cloudwater.org/event/morning-meditation-zen-tea-2-2/2027-07-17/
CATEGORIES:Meditation
ATTACH;FMTTYPE=image/png:https://cloudwater.org/wp-content/uploads/2024/12/2025-Saturday-Morning-Meditation-900am.png
END:VEVENT
BEGIN:VEVENT
DTSTART;TZID=America/New_York:20270718T093000
DTEND;TZID=America/New_York:20270718T103000
DTSTAMP:20260424T204417
CREATED:20251210T134439Z
LAST-MODIFIED:20260205T132934Z
UID:10007020-1815903000-1815906600@cloudwater.org
SUMMARY:Sunday Morning Zen Meditation
DESCRIPTION:Sunday Morning Zen Meditation includes seated and walking practice and a traditional Zen chanting service which includes the Heart Sutra\, the Ten-Verse Life-Prolonging Guanyin Sutra\, the Four Bodhisattva Vows\, the Verse In Praise of Water\, and a chant honoring the venerable Chan Ancestors. This is followed by the drinking of herbal tea\, plus time for conversation.
URL:https://cloudwater.org/event/sunday-morning-zen-meditation-5/2027-07-18/
CATEGORIES:Meditation
ATTACH;FMTTYPE=image/png:https://cloudwater.org/wp-content/uploads/2024/12/2025-Sunday-Morning-Zen-Meditation.png
END:VEVENT
END:VCALENDAR