BEGIN:VCALENDAR
VERSION:2.0
PRODID:-//CloudWater Zendo - ECPv6.15.20//NONSGML v1.0//EN
CALSCALE:GREGORIAN
METHOD:PUBLISH
X-ORIGINAL-URL:https://cloudwater.org
X-WR-CALDESC:Events for CloudWater Zendo
REFRESH-INTERVAL;VALUE=DURATION:PT1H
X-Robots-Tag:noindex
X-PUBLISHED-TTL:PT1H
BEGIN:VTIMEZONE
TZID:America/New_York
BEGIN:DAYLIGHT
TZOFFSETFROM:-0500
TZOFFSETTO:-0400
TZNAME:EDT
DTSTART:20240310T070000
END:DAYLIGHT
BEGIN:STANDARD
TZOFFSETFROM:-0400
TZOFFSETTO:-0500
TZNAME:EST
DTSTART:20241103T060000
END:STANDARD
BEGIN:DAYLIGHT
TZOFFSETFROM:-0500
TZOFFSETTO:-0400
TZNAME:EDT
DTSTART:20250309T070000
END:DAYLIGHT
BEGIN:STANDARD
TZOFFSETFROM:-0400
TZOFFSETTO:-0500
TZNAME:EST
DTSTART:20251102T060000
END:STANDARD
BEGIN:DAYLIGHT
TZOFFSETFROM:-0500
TZOFFSETTO:-0400
TZNAME:EDT
DTSTART:20260308T070000
END:DAYLIGHT
BEGIN:STANDARD
TZOFFSETFROM:-0400
TZOFFSETTO:-0500
TZNAME:EST
DTSTART:20261101T060000
END:STANDARD
END:VTIMEZONE
BEGIN:VEVENT
DTSTART;TZID=America/New_York:20250503T090000
DTEND;TZID=America/New_York:20250503T100000
DTSTAMP:20260425T190615
CREATED:20241225T024642Z
LAST-MODIFIED:20250618T131142Z
UID:10005933-1746262800-1746266400@cloudwater.org
SUMMARY:Golden Wisdom Virtual Sangha On Zoom
DESCRIPTION:Led by Venerable Shih Zuandao\, this virtual Zen group meets for meditation on the first two Mondays of each month. A Zen Study session is conducted on the third Monday of the month. All Monday sessions begin at 7:00 p.m. local time (Eastern\, USA). \nGolden Wisdom also meets on the first and third Saturdays of each month at 9:00 a.m. All are welcome. \nhttps://us02web.zoom.us/j/85439673161?pwd=RVhSeVg3NmxJZjZlM1p0NkRrbXJhZz09 \nMeeting ID: 854 3967 3161     Passcode: 454169
URL:https://cloudwater.org/event/golden-wisdom-virtual-sangha-on-zoom-14/2025-05-03/
CATEGORIES:Golden Wisdom,Meditation,Online
ATTACH;FMTTYPE=image/png:https://cloudwater.org/wp-content/uploads/2024/12/Golden-Wisdom-Saturday.png
END:VEVENT
BEGIN:VEVENT
DTSTART;TZID=America/New_York:20250505T190000
DTEND;TZID=America/New_York:20250505T200000
DTSTAMP:20260425T190616
CREATED:20241225T023231Z
LAST-MODIFIED:20241225T112722Z
UID:10005901-1746471600-1746475200@cloudwater.org
SUMMARY:Golden Wisdom Virtual Sangha On Zoom
DESCRIPTION:Led by Venerable Shih Zuandao\, this virtual Zen group meets for meditation on the first two Mondays of each month. A Zen Study session is conducted on the third Monday of the month. All Monday sessions begin at 7:00 p.m. local time (Eastern\, USA). \nGolden Wisdom also meets on the first and third Saturdays of each month at 9:00 a.m. All are welcome. \nhttps://us02web.zoom.us/j/85439673161?pwd=RVhSeVg3NmxJZjZlM1p0NkRrbXJhZz09 \nMeeting ID: 854 3967 3161     Passcode: 454169
URL:https://cloudwater.org/event/golden-wisdom-virtual-sangha-on-zoom-13/2025-05-05/
CATEGORIES:Golden Wisdom,Meditation
ATTACH;FMTTYPE=image/png:https://cloudwater.org/wp-content/uploads/2024/04/Golden-Wisdom-Virtual-Sangha.png
END:VEVENT
BEGIN:VEVENT
DTSTART;TZID=America/New_York:20250512T190000
DTEND;TZID=America/New_York:20250512T200000
DTSTAMP:20260425T190616
CREATED:20241225T023231Z
LAST-MODIFIED:20241225T112722Z
UID:10005902-1747076400-1747080000@cloudwater.org
SUMMARY:Golden Wisdom Virtual Sangha On Zoom
DESCRIPTION:Led by Venerable Shih Zuandao\, this virtual Zen group meets for meditation on the first two Mondays of each month. A Zen Study session is conducted on the third Monday of the month. All Monday sessions begin at 7:00 p.m. local time (Eastern\, USA). \nGolden Wisdom also meets on the first and third Saturdays of each month at 9:00 a.m. All are welcome. \nhttps://us02web.zoom.us/j/85439673161?pwd=RVhSeVg3NmxJZjZlM1p0NkRrbXJhZz09 \nMeeting ID: 854 3967 3161     Passcode: 454169
URL:https://cloudwater.org/event/golden-wisdom-virtual-sangha-on-zoom-13/2025-05-12/
CATEGORIES:Golden Wisdom,Meditation
ATTACH;FMTTYPE=image/png:https://cloudwater.org/wp-content/uploads/2024/04/Golden-Wisdom-Virtual-Sangha.png
END:VEVENT
BEGIN:VEVENT
DTSTART;TZID=America/New_York:20250517T090000
DTEND;TZID=America/New_York:20250517T100000
DTSTAMP:20260425T190616
CREATED:20241225T024642Z
LAST-MODIFIED:20250618T131142Z
UID:10005934-1747472400-1747476000@cloudwater.org
SUMMARY:Golden Wisdom Virtual Sangha On Zoom
DESCRIPTION:Led by Venerable Shih Zuandao\, this virtual Zen group meets for meditation on the first two Mondays of each month. A Zen Study session is conducted on the third Monday of the month. All Monday sessions begin at 7:00 p.m. local time (Eastern\, USA). \nGolden Wisdom also meets on the first and third Saturdays of each month at 9:00 a.m. All are welcome. \nhttps://us02web.zoom.us/j/85439673161?pwd=RVhSeVg3NmxJZjZlM1p0NkRrbXJhZz09 \nMeeting ID: 854 3967 3161     Passcode: 454169
URL:https://cloudwater.org/event/golden-wisdom-virtual-sangha-on-zoom-14/2025-05-17/
CATEGORIES:Golden Wisdom,Meditation,Online
ATTACH;FMTTYPE=image/png:https://cloudwater.org/wp-content/uploads/2024/12/Golden-Wisdom-Saturday.png
END:VEVENT
BEGIN:VEVENT
DTSTART;TZID=America/New_York:20250519T190000
DTEND;TZID=America/New_York:20250519T200000
DTSTAMP:20260425T190616
CREATED:20241225T023231Z
LAST-MODIFIED:20241225T112722Z
UID:10005903-1747681200-1747684800@cloudwater.org
SUMMARY:Golden Wisdom Virtual Sangha On Zoom
DESCRIPTION:Led by Venerable Shih Zuandao\, this virtual Zen group meets for meditation on the first two Mondays of each month. A Zen Study session is conducted on the third Monday of the month. All Monday sessions begin at 7:00 p.m. local time (Eastern\, USA). \nGolden Wisdom also meets on the first and third Saturdays of each month at 9:00 a.m. All are welcome. \nhttps://us02web.zoom.us/j/85439673161?pwd=RVhSeVg3NmxJZjZlM1p0NkRrbXJhZz09 \nMeeting ID: 854 3967 3161     Passcode: 454169
URL:https://cloudwater.org/event/golden-wisdom-virtual-sangha-on-zoom-13/2025-05-19/
CATEGORIES:Golden Wisdom,Meditation
ATTACH;FMTTYPE=image/png:https://cloudwater.org/wp-content/uploads/2024/04/Golden-Wisdom-Virtual-Sangha.png
END:VEVENT
END:VCALENDAR