BEGIN:VCALENDAR
VERSION:2.0
PRODID:-//CloudWater Zendo - ECPv6.15.20//NONSGML v1.0//EN
CALSCALE:GREGORIAN
METHOD:PUBLISH
X-WR-CALNAME:CloudWater Zendo
X-ORIGINAL-URL:https://cloudwater.org
X-WR-CALDESC:Events for CloudWater Zendo
REFRESH-INTERVAL;VALUE=DURATION:PT1H
X-Robots-Tag:noindex
X-PUBLISHED-TTL:PT1H
BEGIN:VTIMEZONE
TZID:America/New_York
BEGIN:DAYLIGHT
TZOFFSETFROM:-0500
TZOFFSETTO:-0400
TZNAME:EDT
DTSTART:20240310T070000
END:DAYLIGHT
BEGIN:STANDARD
TZOFFSETFROM:-0400
TZOFFSETTO:-0500
TZNAME:EST
DTSTART:20241103T060000
END:STANDARD
BEGIN:DAYLIGHT
TZOFFSETFROM:-0500
TZOFFSETTO:-0400
TZNAME:EDT
DTSTART:20250309T070000
END:DAYLIGHT
BEGIN:STANDARD
TZOFFSETFROM:-0400
TZOFFSETTO:-0500
TZNAME:EST
DTSTART:20251102T060000
END:STANDARD
BEGIN:DAYLIGHT
TZOFFSETFROM:-0500
TZOFFSETTO:-0400
TZNAME:EDT
DTSTART:20260308T070000
END:DAYLIGHT
BEGIN:STANDARD
TZOFFSETFROM:-0400
TZOFFSETTO:-0500
TZNAME:EST
DTSTART:20261101T060000
END:STANDARD
END:VTIMEZONE
BEGIN:VEVENT
DTSTART;TZID=America/New_York:20250508T190000
DTEND;TZID=America/New_York:20250508T200000
DTSTAMP:20260424T215853
CREATED:20250424T214742Z
LAST-MODIFIED:20250424T214742Z
UID:10006139-1746730800-1746734400@cloudwater.org
SUMMARY:The Bamboo Grove On Zoom: "Meaningful Mentors" with Venerable Shih Mingxing
DESCRIPTION:At some time or another in life\, all of us feel broken. The Path is not a process of fixing ourselves but rather of recognizing and attuning ourselves to the parts that were never broken. Wise role models will help us see this within ourselves. Venerable Shih Mingxing will explore some of the dharmic role models which assist us to navigate the Path. \nhttps://us02web.zoom.us/j/87912696408?pwd=mEmiAkhSXZlgYjayVeu8t13q6MrIeP.1 \nMeeting ID: 879 1269 6408     Passcode: 932288
URL:https://cloudwater.org/event/the-bamboo-grove-on-zoom-meaningful-mentors-with-venerable-shih-mingxing/
CATEGORIES:Bamboo Grove Lecture
ATTACH;FMTTYPE=image/png:https://cloudwater.org/wp-content/uploads/2024/05/Bamboo-Grove-Lectures.png
END:VEVENT
END:VCALENDAR