BEGIN:VCALENDAR
VERSION:2.0
PRODID:-//CloudWater Zendo - ECPv6.15.20//NONSGML v1.0//EN
CALSCALE:GREGORIAN
METHOD:PUBLISH
X-ORIGINAL-URL:https://cloudwater.org
X-WR-CALDESC:Events for CloudWater Zendo
REFRESH-INTERVAL;VALUE=DURATION:PT1H
X-Robots-Tag:noindex
X-PUBLISHED-TTL:PT1H
BEGIN:VTIMEZONE
TZID:America/New_York
BEGIN:DAYLIGHT
TZOFFSETFROM:-0500
TZOFFSETTO:-0400
TZNAME:EDT
DTSTART:20240310T070000
END:DAYLIGHT
BEGIN:STANDARD
TZOFFSETFROM:-0400
TZOFFSETTO:-0500
TZNAME:EST
DTSTART:20241103T060000
END:STANDARD
BEGIN:DAYLIGHT
TZOFFSETFROM:-0500
TZOFFSETTO:-0400
TZNAME:EDT
DTSTART:20250309T070000
END:DAYLIGHT
BEGIN:STANDARD
TZOFFSETFROM:-0400
TZOFFSETTO:-0500
TZNAME:EST
DTSTART:20251102T060000
END:STANDARD
BEGIN:DAYLIGHT
TZOFFSETFROM:-0500
TZOFFSETTO:-0400
TZNAME:EDT
DTSTART:20260308T070000
END:DAYLIGHT
BEGIN:STANDARD
TZOFFSETFROM:-0400
TZOFFSETTO:-0500
TZNAME:EST
DTSTART:20261101T060000
END:STANDARD
END:VTIMEZONE
BEGIN:VEVENT
DTSTART;TZID=America/New_York:20250213T190000
DTEND;TZID=America/New_York:20250213T200000
DTSTAMP:20260425T102952
CREATED:20250210T120826Z
LAST-MODIFIED:20250210T121623Z
UID:10006135-1739473200-1739476800@cloudwater.org
SUMMARY:Bamboo Grove: "Manjushri\, The Other Bodhisattva" with Venerable Shih Mingxing
DESCRIPTION:In Mahayana Buddhism the Bodhisattva Manjushri represents enlightened Wisdom. Venerable Shih Mingxing will examine the origins and development of this sometimes-overlooked Bodhisattva. \nhttps://us02web.zoom.us/j/84681007371?pwd=EnpUSILVKBrFaVLbclXbD3ZqWlgXgb.1 \nMeeting ID: 846 8100 7371     Passcode: 201430
URL:https://cloudwater.org/event/bamboo-grove-manjushri-the-other-bodhisattva-with-venerable-shih-mingxing/
CATEGORIES:Bamboo Grove Lecture
ATTACH;FMTTYPE=image/png:https://cloudwater.org/wp-content/uploads/2024/05/Bamboo-Grove-Lectures.png
END:VEVENT
END:VCALENDAR