BEGIN:VCALENDAR
VERSION:2.0
PRODID:-//CloudWater Zendo - ECPv6.15.20//NONSGML v1.0//EN
CALSCALE:GREGORIAN
METHOD:PUBLISH
X-ORIGINAL-URL:https://cloudwater.org
X-WR-CALDESC:Events for CloudWater Zendo
REFRESH-INTERVAL;VALUE=DURATION:PT1H
X-Robots-Tag:noindex
X-PUBLISHED-TTL:PT1H
BEGIN:VTIMEZONE
TZID:America/New_York
BEGIN:DAYLIGHT
TZOFFSETFROM:-0500
TZOFFSETTO:-0400
TZNAME:EDT
DTSTART:20240310T070000
END:DAYLIGHT
BEGIN:STANDARD
TZOFFSETFROM:-0400
TZOFFSETTO:-0500
TZNAME:EST
DTSTART:20241103T060000
END:STANDARD
BEGIN:DAYLIGHT
TZOFFSETFROM:-0500
TZOFFSETTO:-0400
TZNAME:EDT
DTSTART:20250309T070000
END:DAYLIGHT
BEGIN:STANDARD
TZOFFSETFROM:-0400
TZOFFSETTO:-0500
TZNAME:EST
DTSTART:20251102T060000
END:STANDARD
BEGIN:DAYLIGHT
TZOFFSETFROM:-0500
TZOFFSETTO:-0400
TZNAME:EDT
DTSTART:20260308T070000
END:DAYLIGHT
BEGIN:STANDARD
TZOFFSETFROM:-0400
TZOFFSETTO:-0500
TZNAME:EST
DTSTART:20261101T060000
END:STANDARD
END:VTIMEZONE
BEGIN:VEVENT
DTSTART;TZID=America/New_York:20250814T190000
DTEND;TZID=America/New_York:20250814T200000
DTSTAMP:20260424T152437
CREATED:20250729T123523Z
LAST-MODIFIED:20250729T123539Z
UID:10006192-1755198000-1755201600@cloudwater.org
SUMMARY:The Bamboo Grove Presents: "The Dhammazilla" With Venerable Shih Mingxing
DESCRIPTION:Japan has been the home of many revered Zen teachers. Dogen\, Bankei\, and Eisai have contributed\ncommentaries and practices that have influenced practitioners down to the present time. As far as\ncontemporary teachers are concerned\, none is more famous and followed than Godzilla. We’ll explore\nsome of the kaiju teachings about basic Buddhist tenets. \nhttps://us02web.zoom.us/j/82538773708?pwd=vwRTPARPdGW4cz0HtveYzqVZrCZCpT.1 \nMeeting ID: 825 3877 3708     Passcode: 187561
URL:https://cloudwater.org/event/the-bamboo-grove-presents-the-dhammazilla-with-venerable-shih-mingxing/
CATEGORIES:Bamboo Grove Lecture
ATTACH;FMTTYPE=image/png:https://cloudwater.org/wp-content/uploads/2024/05/Bamboo-Grove-Lectures.png
END:VEVENT
END:VCALENDAR