BEGIN:VCALENDAR
VERSION:2.0
PRODID:-//CloudWater Zendo - ECPv6.15.20//NONSGML v1.0//EN
CALSCALE:GREGORIAN
METHOD:PUBLISH
X-ORIGINAL-URL:https://cloudwater.org
X-WR-CALDESC:Events for CloudWater Zendo
REFRESH-INTERVAL;VALUE=DURATION:PT1H
X-Robots-Tag:noindex
X-PUBLISHED-TTL:PT1H
BEGIN:VTIMEZONE
TZID:America/New_York
BEGIN:DAYLIGHT
TZOFFSETFROM:-0500
TZOFFSETTO:-0400
TZNAME:EDT
DTSTART:20240310T070000
END:DAYLIGHT
BEGIN:STANDARD
TZOFFSETFROM:-0400
TZOFFSETTO:-0500
TZNAME:EST
DTSTART:20241103T060000
END:STANDARD
BEGIN:DAYLIGHT
TZOFFSETFROM:-0500
TZOFFSETTO:-0400
TZNAME:EDT
DTSTART:20250309T070000
END:DAYLIGHT
BEGIN:STANDARD
TZOFFSETFROM:-0400
TZOFFSETTO:-0500
TZNAME:EST
DTSTART:20251102T060000
END:STANDARD
BEGIN:DAYLIGHT
TZOFFSETFROM:-0500
TZOFFSETTO:-0400
TZNAME:EDT
DTSTART:20260308T070000
END:DAYLIGHT
BEGIN:STANDARD
TZOFFSETFROM:-0400
TZOFFSETTO:-0500
TZNAME:EST
DTSTART:20261101T060000
END:STANDARD
END:VTIMEZONE
BEGIN:VEVENT
DTSTART;TZID=America/New_York:20250710T190000
DTEND;TZID=America/New_York:20250710T200000
DTSTAMP:20260424T170549
CREATED:20250706T120751Z
LAST-MODIFIED:20250706T231108Z
UID:10006188-1752174000-1752177600@cloudwater.org
SUMMARY:The Bamboo Grove Presents "Meaningful Gestures" With Venerable Shih Mingxing On Zoom
DESCRIPTION:Mudras\, hand gestures\, are used in many Buddhist and Buddhist-related activities. They are not only symbolic\, but also functional. Venerable Shih Mingxing will examine some of the most-utilized mudras in Buddhism to deepen our understanding of these gestures. \nhttps://us02web.zoom.us/j/89783072737?pwd=Cr8OQDOY4wVPJ15myvBewrgu1m5T0c.1 \nMeeting ID: 897 8307 2737     Passcode: 271858
URL:https://cloudwater.org/event/the-bamboo-grove-presents-meaningful-gestures-with-venerable-shih-mingxing-on-zoom/
CATEGORIES:Bamboo Grove Lecture
ATTACH;FMTTYPE=image/png:https://cloudwater.org/wp-content/uploads/2024/05/Bamboo-Grove-Lectures.png
END:VEVENT
END:VCALENDAR