BEGIN:VCALENDAR
VERSION:2.0
PRODID:-//CloudWater Zendo - ECPv6.15.20//NONSGML v1.0//EN
CALSCALE:GREGORIAN
METHOD:PUBLISH
X-ORIGINAL-URL:https://cloudwater.org
X-WR-CALDESC:Events for CloudWater Zendo
REFRESH-INTERVAL;VALUE=DURATION:PT1H
X-Robots-Tag:noindex
X-PUBLISHED-TTL:PT1H
BEGIN:VTIMEZONE
TZID:America/New_York
BEGIN:DAYLIGHT
TZOFFSETFROM:-0500
TZOFFSETTO:-0400
TZNAME:EDT
DTSTART:20240310T070000
END:DAYLIGHT
BEGIN:STANDARD
TZOFFSETFROM:-0400
TZOFFSETTO:-0500
TZNAME:EST
DTSTART:20241103T060000
END:STANDARD
BEGIN:DAYLIGHT
TZOFFSETFROM:-0500
TZOFFSETTO:-0400
TZNAME:EDT
DTSTART:20250309T070000
END:DAYLIGHT
BEGIN:STANDARD
TZOFFSETFROM:-0400
TZOFFSETTO:-0500
TZNAME:EST
DTSTART:20251102T060000
END:STANDARD
BEGIN:DAYLIGHT
TZOFFSETFROM:-0500
TZOFFSETTO:-0400
TZNAME:EDT
DTSTART:20260308T070000
END:DAYLIGHT
BEGIN:STANDARD
TZOFFSETFROM:-0400
TZOFFSETTO:-0500
TZNAME:EST
DTSTART:20261101T060000
END:STANDARD
END:VTIMEZONE
BEGIN:VEVENT
DTSTART;TZID=America/New_York:20250116T080000
DTEND;TZID=America/New_York:20250116T170000
DTSTAMP:20260425T123058
CREATED:20241226T144128Z
LAST-MODIFIED:20241226T144239Z
UID:10006099-1737014400-1737046800@cloudwater.org
SUMMARY:The Bamboo Grove: "Touring the Pure Land" With Venerable Shih Mingxing
DESCRIPTION:In Pure Land Buddhism the Pure Land itself may be regarded as a literal realm of rebirth\, or it may be seen as a series of metaphors which help us to uncover deep truths about ourselves and the universe. Venerable Shih Mingxing will take us on a guided tour of the Pure Land as described in the Visualization Sutra in order to help us understand what this “Realm of Bliss” really is and what it represents. \nhttps://us02web.zoom.us/j/88365389226?pwd=J0FLOgaM2ODJDzILwqcAv3vwCn0MDr.1 \nMeeting ID: 883 6538 9226     Passcode: 142823
URL:https://cloudwater.org/event/the-bamboo-grove-touring-the-pure-land-with-venerable-shih-mingxing/
CATEGORIES:Bamboo Grove Lecture,Online
ATTACH;FMTTYPE=image/png:https://cloudwater.org/wp-content/uploads/2024/05/Bamboo-Grove-Lectures.png
END:VEVENT
END:VCALENDAR