BEGIN:VCALENDAR
VERSION:2.0
PRODID:-//CloudWater Zendo - ECPv6.15.20//NONSGML v1.0//EN
CALSCALE:GREGORIAN
METHOD:PUBLISH
X-WR-CALNAME:CloudWater Zendo
X-ORIGINAL-URL:https://cloudwater.org
X-WR-CALDESC:Events for CloudWater Zendo
REFRESH-INTERVAL;VALUE=DURATION:PT1H
X-Robots-Tag:noindex
X-PUBLISHED-TTL:PT1H
BEGIN:VTIMEZONE
TZID:America/New_York
BEGIN:DAYLIGHT
TZOFFSETFROM:-0500
TZOFFSETTO:-0400
TZNAME:EDT
DTSTART:20230312T070000
END:DAYLIGHT
BEGIN:STANDARD
TZOFFSETFROM:-0400
TZOFFSETTO:-0500
TZNAME:EST
DTSTART:20231105T060000
END:STANDARD
BEGIN:DAYLIGHT
TZOFFSETFROM:-0500
TZOFFSETTO:-0400
TZNAME:EDT
DTSTART:20240310T070000
END:DAYLIGHT
BEGIN:STANDARD
TZOFFSETFROM:-0400
TZOFFSETTO:-0500
TZNAME:EST
DTSTART:20241103T060000
END:STANDARD
BEGIN:DAYLIGHT
TZOFFSETFROM:-0500
TZOFFSETTO:-0400
TZNAME:EDT
DTSTART:20250309T070000
END:DAYLIGHT
BEGIN:STANDARD
TZOFFSETFROM:-0400
TZOFFSETTO:-0500
TZNAME:EST
DTSTART:20251102T060000
END:STANDARD
END:VTIMEZONE
BEGIN:VEVENT
DTSTART;TZID=America/New_York:20241219T190000
DTEND;TZID=America/New_York:20241219T200000
DTSTAMP:20260425T195258
CREATED:20241216T122147Z
LAST-MODIFIED:20241216T122147Z
UID:10005635-1734634800-1734638400@cloudwater.org
SUMMARY:Bamboo Grove: "What Has Bodhidharma Done For The West" with Ven. Shih Mingxing
DESCRIPTION:Buddhism arrived in the West more than a century ago. What effects has it had on Western society? Where might Buddhism in the West end up in the future? These and other questions will be examined by Venerable Shih Mingxing. \nhttps://us02web.zoom.us/j/86522883209?pwd=JY9EbOvTVb8bhKb322n4z4jP1GDhXp.1 \nMeeting ID: 865 2288 3209     Passcode: 397669
URL:https://cloudwater.org/event/bamboo-grove-what-has-bodhidharma-done-for-the-west-with-ven-shih-mingxing/
CATEGORIES:Bamboo Grove Lecture
ATTACH;FMTTYPE=image/png:https://cloudwater.org/wp-content/uploads/2024/05/Bamboo-Grove-Lectures.png
END:VEVENT
END:VCALENDAR