BEGIN:VCALENDAR
VERSION:2.0
PRODID:-//CloudWater Zendo - ECPv6.15.20//NONSGML v1.0//EN
CALSCALE:GREGORIAN
METHOD:PUBLISH
X-WR-CALNAME:CloudWater Zendo
X-ORIGINAL-URL:https://cloudwater.org
X-WR-CALDESC:Events for CloudWater Zendo
REFRESH-INTERVAL;VALUE=DURATION:PT1H
X-Robots-Tag:noindex
X-PUBLISHED-TTL:PT1H
BEGIN:VTIMEZONE
TZID:America/New_York
BEGIN:DAYLIGHT
TZOFFSETFROM:-0500
TZOFFSETTO:-0400
TZNAME:EDT
DTSTART:20270314T070000
END:DAYLIGHT
BEGIN:STANDARD
TZOFFSETFROM:-0400
TZOFFSETTO:-0500
TZNAME:EST
DTSTART:20271107T060000
END:STANDARD
BEGIN:DAYLIGHT
TZOFFSETFROM:-0500
TZOFFSETTO:-0400
TZNAME:EDT
DTSTART:20280312T070000
END:DAYLIGHT
BEGIN:STANDARD
TZOFFSETFROM:-0400
TZOFFSETTO:-0500
TZNAME:EST
DTSTART:20281105T060000
END:STANDARD
BEGIN:DAYLIGHT
TZOFFSETFROM:-0500
TZOFFSETTO:-0400
TZNAME:EDT
DTSTART:20290311T070000
END:DAYLIGHT
BEGIN:STANDARD
TZOFFSETFROM:-0400
TZOFFSETTO:-0500
TZNAME:EST
DTSTART:20291104T060000
END:STANDARD
END:VTIMEZONE
BEGIN:VEVENT
DTSTART;TZID=America/New_York:20280401T100000
DTEND;TZID=America/New_York:20280401T110000
DTSTAMP:20260419T115719
CREATED:20251210T133316Z
LAST-MODIFIED:20260205T124909Z
UID:10008164-1838196000-1838199600@cloudwater.org
SUMMARY:After The Bell
DESCRIPTION:Every Saturday morning at 10:00 a.m. we gather as a group to participate in a variety of activities such as group discussion over tea\, informal Dharma sharing\, various meditative practices\, internal energy exercises\, consultation with the Teacher\, or whatever else may come to mind. Elements may be presented singly or in combination. This is a good way to promote community and to get input from Zendo participants.
URL:https://cloudwater.org/event/after-the-bell-2/2028-04-01/
CATEGORIES:After The Bell
ATTACH;FMTTYPE=image/jpeg:https://cloudwater.org/wp-content/uploads/2025/06/After-The-Bell.jpg
END:VEVENT
BEGIN:VEVENT
DTSTART;TZID=America/New_York:20280408T100000
DTEND;TZID=America/New_York:20280408T110000
DTSTAMP:20260419T115719
CREATED:20251210T133316Z
LAST-MODIFIED:20260205T124909Z
UID:10008165-1838800800-1838804400@cloudwater.org
SUMMARY:After The Bell
DESCRIPTION:Every Saturday morning at 10:00 a.m. we gather as a group to participate in a variety of activities such as group discussion over tea\, informal Dharma sharing\, various meditative practices\, internal energy exercises\, consultation with the Teacher\, or whatever else may come to mind. Elements may be presented singly or in combination. This is a good way to promote community and to get input from Zendo participants.
URL:https://cloudwater.org/event/after-the-bell-2/2028-04-08/
CATEGORIES:After The Bell
ATTACH;FMTTYPE=image/jpeg:https://cloudwater.org/wp-content/uploads/2025/06/After-The-Bell.jpg
END:VEVENT
BEGIN:VEVENT
DTSTART;TZID=America/New_York:20280415T100000
DTEND;TZID=America/New_York:20280415T110000
DTSTAMP:20260419T115719
CREATED:20251210T133316Z
LAST-MODIFIED:20260205T124909Z
UID:10008166-1839405600-1839409200@cloudwater.org
SUMMARY:After The Bell
DESCRIPTION:Every Saturday morning at 10:00 a.m. we gather as a group to participate in a variety of activities such as group discussion over tea\, informal Dharma sharing\, various meditative practices\, internal energy exercises\, consultation with the Teacher\, or whatever else may come to mind. Elements may be presented singly or in combination. This is a good way to promote community and to get input from Zendo participants.
URL:https://cloudwater.org/event/after-the-bell-2/2028-04-15/
CATEGORIES:After The Bell
ATTACH;FMTTYPE=image/jpeg:https://cloudwater.org/wp-content/uploads/2025/06/After-The-Bell.jpg
END:VEVENT
BEGIN:VEVENT
DTSTART;TZID=America/New_York:20280422T100000
DTEND;TZID=America/New_York:20280422T110000
DTSTAMP:20260419T115719
CREATED:20251210T133316Z
LAST-MODIFIED:20260205T124909Z
UID:10008167-1840010400-1840014000@cloudwater.org
SUMMARY:After The Bell
DESCRIPTION:Every Saturday morning at 10:00 a.m. we gather as a group to participate in a variety of activities such as group discussion over tea\, informal Dharma sharing\, various meditative practices\, internal energy exercises\, consultation with the Teacher\, or whatever else may come to mind. Elements may be presented singly or in combination. This is a good way to promote community and to get input from Zendo participants.
URL:https://cloudwater.org/event/after-the-bell-2/2028-04-22/
CATEGORIES:After The Bell
ATTACH;FMTTYPE=image/jpeg:https://cloudwater.org/wp-content/uploads/2025/06/After-The-Bell.jpg
END:VEVENT
BEGIN:VEVENT
DTSTART;TZID=America/New_York:20280429T100000
DTEND;TZID=America/New_York:20280429T110000
DTSTAMP:20260419T115719
CREATED:20251210T133316Z
LAST-MODIFIED:20260205T124909Z
UID:10008168-1840615200-1840618800@cloudwater.org
SUMMARY:After The Bell
DESCRIPTION:Every Saturday morning at 10:00 a.m. we gather as a group to participate in a variety of activities such as group discussion over tea\, informal Dharma sharing\, various meditative practices\, internal energy exercises\, consultation with the Teacher\, or whatever else may come to mind. Elements may be presented singly or in combination. This is a good way to promote community and to get input from Zendo participants.
URL:https://cloudwater.org/event/after-the-bell-2/2028-04-29/
CATEGORIES:After The Bell
ATTACH;FMTTYPE=image/jpeg:https://cloudwater.org/wp-content/uploads/2025/06/After-The-Bell.jpg
END:VEVENT
BEGIN:VEVENT
DTSTART;TZID=America/New_York:20280506T100000
DTEND;TZID=America/New_York:20280506T110000
DTSTAMP:20260419T115719
CREATED:20251210T133316Z
LAST-MODIFIED:20260205T124909Z
UID:10008169-1841220000-1841223600@cloudwater.org
SUMMARY:After The Bell
DESCRIPTION:Every Saturday morning at 10:00 a.m. we gather as a group to participate in a variety of activities such as group discussion over tea\, informal Dharma sharing\, various meditative practices\, internal energy exercises\, consultation with the Teacher\, or whatever else may come to mind. Elements may be presented singly or in combination. This is a good way to promote community and to get input from Zendo participants.
URL:https://cloudwater.org/event/after-the-bell-2/2028-05-06/
CATEGORIES:After The Bell
ATTACH;FMTTYPE=image/jpeg:https://cloudwater.org/wp-content/uploads/2025/06/After-The-Bell.jpg
END:VEVENT
BEGIN:VEVENT
DTSTART;TZID=America/New_York:20280513T100000
DTEND;TZID=America/New_York:20280513T110000
DTSTAMP:20260419T115719
CREATED:20251210T133316Z
LAST-MODIFIED:20260205T124909Z
UID:10008170-1841824800-1841828400@cloudwater.org
SUMMARY:After The Bell
DESCRIPTION:Every Saturday morning at 10:00 a.m. we gather as a group to participate in a variety of activities such as group discussion over tea\, informal Dharma sharing\, various meditative practices\, internal energy exercises\, consultation with the Teacher\, or whatever else may come to mind. Elements may be presented singly or in combination. This is a good way to promote community and to get input from Zendo participants.
URL:https://cloudwater.org/event/after-the-bell-2/2028-05-13/
CATEGORIES:After The Bell
ATTACH;FMTTYPE=image/jpeg:https://cloudwater.org/wp-content/uploads/2025/06/After-The-Bell.jpg
END:VEVENT
BEGIN:VEVENT
DTSTART;TZID=America/New_York:20280520T100000
DTEND;TZID=America/New_York:20280520T110000
DTSTAMP:20260419T115719
CREATED:20251210T133316Z
LAST-MODIFIED:20260205T124909Z
UID:10008171-1842429600-1842433200@cloudwater.org
SUMMARY:After The Bell
DESCRIPTION:Every Saturday morning at 10:00 a.m. we gather as a group to participate in a variety of activities such as group discussion over tea\, informal Dharma sharing\, various meditative practices\, internal energy exercises\, consultation with the Teacher\, or whatever else may come to mind. Elements may be presented singly or in combination. This is a good way to promote community and to get input from Zendo participants.
URL:https://cloudwater.org/event/after-the-bell-2/2028-05-20/
CATEGORIES:After The Bell
ATTACH;FMTTYPE=image/jpeg:https://cloudwater.org/wp-content/uploads/2025/06/After-The-Bell.jpg
END:VEVENT
BEGIN:VEVENT
DTSTART;TZID=America/New_York:20280527T100000
DTEND;TZID=America/New_York:20280527T110000
DTSTAMP:20260419T115719
CREATED:20251210T133316Z
LAST-MODIFIED:20260205T124909Z
UID:10008172-1843034400-1843038000@cloudwater.org
SUMMARY:After The Bell
DESCRIPTION:Every Saturday morning at 10:00 a.m. we gather as a group to participate in a variety of activities such as group discussion over tea\, informal Dharma sharing\, various meditative practices\, internal energy exercises\, consultation with the Teacher\, or whatever else may come to mind. Elements may be presented singly or in combination. This is a good way to promote community and to get input from Zendo participants.
URL:https://cloudwater.org/event/after-the-bell-2/2028-05-27/
CATEGORIES:After The Bell
ATTACH;FMTTYPE=image/jpeg:https://cloudwater.org/wp-content/uploads/2025/06/After-The-Bell.jpg
END:VEVENT
BEGIN:VEVENT
DTSTART;TZID=America/New_York:20280603T100000
DTEND;TZID=America/New_York:20280603T110000
DTSTAMP:20260419T115719
CREATED:20251210T133316Z
LAST-MODIFIED:20260205T124909Z
UID:10008173-1843639200-1843642800@cloudwater.org
SUMMARY:After The Bell
DESCRIPTION:Every Saturday morning at 10:00 a.m. we gather as a group to participate in a variety of activities such as group discussion over tea\, informal Dharma sharing\, various meditative practices\, internal energy exercises\, consultation with the Teacher\, or whatever else may come to mind. Elements may be presented singly or in combination. This is a good way to promote community and to get input from Zendo participants.
URL:https://cloudwater.org/event/after-the-bell-2/2028-06-03/
CATEGORIES:After The Bell
ATTACH;FMTTYPE=image/jpeg:https://cloudwater.org/wp-content/uploads/2025/06/After-The-Bell.jpg
END:VEVENT
BEGIN:VEVENT
DTSTART;TZID=America/New_York:20280610T100000
DTEND;TZID=America/New_York:20280610T110000
DTSTAMP:20260419T115719
CREATED:20251210T133316Z
LAST-MODIFIED:20260205T124909Z
UID:10008174-1844244000-1844247600@cloudwater.org
SUMMARY:After The Bell
DESCRIPTION:Every Saturday morning at 10:00 a.m. we gather as a group to participate in a variety of activities such as group discussion over tea\, informal Dharma sharing\, various meditative practices\, internal energy exercises\, consultation with the Teacher\, or whatever else may come to mind. Elements may be presented singly or in combination. This is a good way to promote community and to get input from Zendo participants.
URL:https://cloudwater.org/event/after-the-bell-2/2028-06-10/
CATEGORIES:After The Bell
ATTACH;FMTTYPE=image/jpeg:https://cloudwater.org/wp-content/uploads/2025/06/After-The-Bell.jpg
END:VEVENT
BEGIN:VEVENT
DTSTART;TZID=America/New_York:20280617T100000
DTEND;TZID=America/New_York:20280617T110000
DTSTAMP:20260419T115719
CREATED:20251210T133316Z
LAST-MODIFIED:20260205T124909Z
UID:10008175-1844848800-1844852400@cloudwater.org
SUMMARY:After The Bell
DESCRIPTION:Every Saturday morning at 10:00 a.m. we gather as a group to participate in a variety of activities such as group discussion over tea\, informal Dharma sharing\, various meditative practices\, internal energy exercises\, consultation with the Teacher\, or whatever else may come to mind. Elements may be presented singly or in combination. This is a good way to promote community and to get input from Zendo participants.
URL:https://cloudwater.org/event/after-the-bell-2/2028-06-17/
CATEGORIES:After The Bell
ATTACH;FMTTYPE=image/jpeg:https://cloudwater.org/wp-content/uploads/2025/06/After-The-Bell.jpg
END:VEVENT
BEGIN:VEVENT
DTSTART;TZID=America/New_York:20280624T100000
DTEND;TZID=America/New_York:20280624T110000
DTSTAMP:20260419T115719
CREATED:20251210T133316Z
LAST-MODIFIED:20260205T124909Z
UID:10008176-1845453600-1845457200@cloudwater.org
SUMMARY:After The Bell
DESCRIPTION:Every Saturday morning at 10:00 a.m. we gather as a group to participate in a variety of activities such as group discussion over tea\, informal Dharma sharing\, various meditative practices\, internal energy exercises\, consultation with the Teacher\, or whatever else may come to mind. Elements may be presented singly or in combination. This is a good way to promote community and to get input from Zendo participants.
URL:https://cloudwater.org/event/after-the-bell-2/2028-06-24/
CATEGORIES:After The Bell
ATTACH;FMTTYPE=image/jpeg:https://cloudwater.org/wp-content/uploads/2025/06/After-The-Bell.jpg
END:VEVENT
BEGIN:VEVENT
DTSTART;TZID=America/New_York:20280701T100000
DTEND;TZID=America/New_York:20280701T110000
DTSTAMP:20260419T115719
CREATED:20251210T133316Z
LAST-MODIFIED:20260205T124909Z
UID:10008177-1846058400-1846062000@cloudwater.org
SUMMARY:After The Bell
DESCRIPTION:Every Saturday morning at 10:00 a.m. we gather as a group to participate in a variety of activities such as group discussion over tea\, informal Dharma sharing\, various meditative practices\, internal energy exercises\, consultation with the Teacher\, or whatever else may come to mind. Elements may be presented singly or in combination. This is a good way to promote community and to get input from Zendo participants.
URL:https://cloudwater.org/event/after-the-bell-2/2028-07-01/
CATEGORIES:After The Bell
ATTACH;FMTTYPE=image/jpeg:https://cloudwater.org/wp-content/uploads/2025/06/After-The-Bell.jpg
END:VEVENT
BEGIN:VEVENT
DTSTART;TZID=America/New_York:20280708T100000
DTEND;TZID=America/New_York:20280708T110000
DTSTAMP:20260419T115720
CREATED:20251210T133316Z
LAST-MODIFIED:20260205T124909Z
UID:10008178-1846663200-1846666800@cloudwater.org
SUMMARY:After The Bell
DESCRIPTION:Every Saturday morning at 10:00 a.m. we gather as a group to participate in a variety of activities such as group discussion over tea\, informal Dharma sharing\, various meditative practices\, internal energy exercises\, consultation with the Teacher\, or whatever else may come to mind. Elements may be presented singly or in combination. This is a good way to promote community and to get input from Zendo participants.
URL:https://cloudwater.org/event/after-the-bell-2/2028-07-08/
CATEGORIES:After The Bell
ATTACH;FMTTYPE=image/jpeg:https://cloudwater.org/wp-content/uploads/2025/06/After-The-Bell.jpg
END:VEVENT
BEGIN:VEVENT
DTSTART;TZID=America/New_York:20280715T100000
DTEND;TZID=America/New_York:20280715T110000
DTSTAMP:20260419T115720
CREATED:20251210T133316Z
LAST-MODIFIED:20260205T124909Z
UID:10008179-1847268000-1847271600@cloudwater.org
SUMMARY:After The Bell
DESCRIPTION:Every Saturday morning at 10:00 a.m. we gather as a group to participate in a variety of activities such as group discussion over tea\, informal Dharma sharing\, various meditative practices\, internal energy exercises\, consultation with the Teacher\, or whatever else may come to mind. Elements may be presented singly or in combination. This is a good way to promote community and to get input from Zendo participants.
URL:https://cloudwater.org/event/after-the-bell-2/2028-07-15/
CATEGORIES:After The Bell
ATTACH;FMTTYPE=image/jpeg:https://cloudwater.org/wp-content/uploads/2025/06/After-The-Bell.jpg
END:VEVENT
BEGIN:VEVENT
DTSTART;TZID=America/New_York:20280722T100000
DTEND;TZID=America/New_York:20280722T110000
DTSTAMP:20260419T115720
CREATED:20251210T133316Z
LAST-MODIFIED:20260205T124909Z
UID:10008180-1847872800-1847876400@cloudwater.org
SUMMARY:After The Bell
DESCRIPTION:Every Saturday morning at 10:00 a.m. we gather as a group to participate in a variety of activities such as group discussion over tea\, informal Dharma sharing\, various meditative practices\, internal energy exercises\, consultation with the Teacher\, or whatever else may come to mind. Elements may be presented singly or in combination. This is a good way to promote community and to get input from Zendo participants.
URL:https://cloudwater.org/event/after-the-bell-2/2028-07-22/
CATEGORIES:After The Bell
ATTACH;FMTTYPE=image/jpeg:https://cloudwater.org/wp-content/uploads/2025/06/After-The-Bell.jpg
END:VEVENT
BEGIN:VEVENT
DTSTART;TZID=America/New_York:20280729T100000
DTEND;TZID=America/New_York:20280729T110000
DTSTAMP:20260419T115720
CREATED:20251210T133316Z
LAST-MODIFIED:20260205T124909Z
UID:10008181-1848477600-1848481200@cloudwater.org
SUMMARY:After The Bell
DESCRIPTION:Every Saturday morning at 10:00 a.m. we gather as a group to participate in a variety of activities such as group discussion over tea\, informal Dharma sharing\, various meditative practices\, internal energy exercises\, consultation with the Teacher\, or whatever else may come to mind. Elements may be presented singly or in combination. This is a good way to promote community and to get input from Zendo participants.
URL:https://cloudwater.org/event/after-the-bell-2/2028-07-29/
CATEGORIES:After The Bell
ATTACH;FMTTYPE=image/jpeg:https://cloudwater.org/wp-content/uploads/2025/06/After-The-Bell.jpg
END:VEVENT
BEGIN:VEVENT
DTSTART;TZID=America/New_York:20280805T100000
DTEND;TZID=America/New_York:20280805T110000
DTSTAMP:20260419T115720
CREATED:20251210T133316Z
LAST-MODIFIED:20260205T124909Z
UID:10008182-1849082400-1849086000@cloudwater.org
SUMMARY:After The Bell
DESCRIPTION:Every Saturday morning at 10:00 a.m. we gather as a group to participate in a variety of activities such as group discussion over tea\, informal Dharma sharing\, various meditative practices\, internal energy exercises\, consultation with the Teacher\, or whatever else may come to mind. Elements may be presented singly or in combination. This is a good way to promote community and to get input from Zendo participants.
URL:https://cloudwater.org/event/after-the-bell-2/2028-08-05/
CATEGORIES:After The Bell
ATTACH;FMTTYPE=image/jpeg:https://cloudwater.org/wp-content/uploads/2025/06/After-The-Bell.jpg
END:VEVENT
BEGIN:VEVENT
DTSTART;TZID=America/New_York:20280812T100000
DTEND;TZID=America/New_York:20280812T110000
DTSTAMP:20260419T115720
CREATED:20251210T133316Z
LAST-MODIFIED:20260205T124909Z
UID:10008183-1849687200-1849690800@cloudwater.org
SUMMARY:After The Bell
DESCRIPTION:Every Saturday morning at 10:00 a.m. we gather as a group to participate in a variety of activities such as group discussion over tea\, informal Dharma sharing\, various meditative practices\, internal energy exercises\, consultation with the Teacher\, or whatever else may come to mind. Elements may be presented singly or in combination. This is a good way to promote community and to get input from Zendo participants.
URL:https://cloudwater.org/event/after-the-bell-2/2028-08-12/
CATEGORIES:After The Bell
ATTACH;FMTTYPE=image/jpeg:https://cloudwater.org/wp-content/uploads/2025/06/After-The-Bell.jpg
END:VEVENT
BEGIN:VEVENT
DTSTART;TZID=America/New_York:20280819T100000
DTEND;TZID=America/New_York:20280819T110000
DTSTAMP:20260419T115720
CREATED:20251210T133316Z
LAST-MODIFIED:20260205T124909Z
UID:10008184-1850292000-1850295600@cloudwater.org
SUMMARY:After The Bell
DESCRIPTION:Every Saturday morning at 10:00 a.m. we gather as a group to participate in a variety of activities such as group discussion over tea\, informal Dharma sharing\, various meditative practices\, internal energy exercises\, consultation with the Teacher\, or whatever else may come to mind. Elements may be presented singly or in combination. This is a good way to promote community and to get input from Zendo participants.
URL:https://cloudwater.org/event/after-the-bell-2/2028-08-19/
CATEGORIES:After The Bell
ATTACH;FMTTYPE=image/jpeg:https://cloudwater.org/wp-content/uploads/2025/06/After-The-Bell.jpg
END:VEVENT
BEGIN:VEVENT
DTSTART;TZID=America/New_York:20280826T100000
DTEND;TZID=America/New_York:20280826T110000
DTSTAMP:20260419T115720
CREATED:20251210T133316Z
LAST-MODIFIED:20260205T124909Z
UID:10008185-1850896800-1850900400@cloudwater.org
SUMMARY:After The Bell
DESCRIPTION:Every Saturday morning at 10:00 a.m. we gather as a group to participate in a variety of activities such as group discussion over tea\, informal Dharma sharing\, various meditative practices\, internal energy exercises\, consultation with the Teacher\, or whatever else may come to mind. Elements may be presented singly or in combination. This is a good way to promote community and to get input from Zendo participants.
URL:https://cloudwater.org/event/after-the-bell-2/2028-08-26/
CATEGORIES:After The Bell
ATTACH;FMTTYPE=image/jpeg:https://cloudwater.org/wp-content/uploads/2025/06/After-The-Bell.jpg
END:VEVENT
BEGIN:VEVENT
DTSTART;TZID=America/New_York:20280902T100000
DTEND;TZID=America/New_York:20280902T110000
DTSTAMP:20260419T115720
CREATED:20251210T133316Z
LAST-MODIFIED:20260205T124909Z
UID:10008186-1851501600-1851505200@cloudwater.org
SUMMARY:After The Bell
DESCRIPTION:Every Saturday morning at 10:00 a.m. we gather as a group to participate in a variety of activities such as group discussion over tea\, informal Dharma sharing\, various meditative practices\, internal energy exercises\, consultation with the Teacher\, or whatever else may come to mind. Elements may be presented singly or in combination. This is a good way to promote community and to get input from Zendo participants.
URL:https://cloudwater.org/event/after-the-bell-2/2028-09-02/
CATEGORIES:After The Bell
ATTACH;FMTTYPE=image/jpeg:https://cloudwater.org/wp-content/uploads/2025/06/After-The-Bell.jpg
END:VEVENT
BEGIN:VEVENT
DTSTART;TZID=America/New_York:20280909T100000
DTEND;TZID=America/New_York:20280909T110000
DTSTAMP:20260419T115720
CREATED:20251210T133316Z
LAST-MODIFIED:20260205T124909Z
UID:10008187-1852106400-1852110000@cloudwater.org
SUMMARY:After The Bell
DESCRIPTION:Every Saturday morning at 10:00 a.m. we gather as a group to participate in a variety of activities such as group discussion over tea\, informal Dharma sharing\, various meditative practices\, internal energy exercises\, consultation with the Teacher\, or whatever else may come to mind. Elements may be presented singly or in combination. This is a good way to promote community and to get input from Zendo participants.
URL:https://cloudwater.org/event/after-the-bell-2/2028-09-09/
CATEGORIES:After The Bell
ATTACH;FMTTYPE=image/jpeg:https://cloudwater.org/wp-content/uploads/2025/06/After-The-Bell.jpg
END:VEVENT
BEGIN:VEVENT
DTSTART;TZID=America/New_York:20280916T100000
DTEND;TZID=America/New_York:20280916T110000
DTSTAMP:20260419T115720
CREATED:20251210T133316Z
LAST-MODIFIED:20260205T124909Z
UID:10008188-1852711200-1852714800@cloudwater.org
SUMMARY:After The Bell
DESCRIPTION:Every Saturday morning at 10:00 a.m. we gather as a group to participate in a variety of activities such as group discussion over tea\, informal Dharma sharing\, various meditative practices\, internal energy exercises\, consultation with the Teacher\, or whatever else may come to mind. Elements may be presented singly or in combination. This is a good way to promote community and to get input from Zendo participants.
URL:https://cloudwater.org/event/after-the-bell-2/2028-09-16/
CATEGORIES:After The Bell
ATTACH;FMTTYPE=image/jpeg:https://cloudwater.org/wp-content/uploads/2025/06/After-The-Bell.jpg
END:VEVENT
BEGIN:VEVENT
DTSTART;TZID=America/New_York:20280923T100000
DTEND;TZID=America/New_York:20280923T110000
DTSTAMP:20260419T115720
CREATED:20251210T133316Z
LAST-MODIFIED:20260205T124909Z
UID:10008189-1853316000-1853319600@cloudwater.org
SUMMARY:After The Bell
DESCRIPTION:Every Saturday morning at 10:00 a.m. we gather as a group to participate in a variety of activities such as group discussion over tea\, informal Dharma sharing\, various meditative practices\, internal energy exercises\, consultation with the Teacher\, or whatever else may come to mind. Elements may be presented singly or in combination. This is a good way to promote community and to get input from Zendo participants.
URL:https://cloudwater.org/event/after-the-bell-2/2028-09-23/
CATEGORIES:After The Bell
ATTACH;FMTTYPE=image/jpeg:https://cloudwater.org/wp-content/uploads/2025/06/After-The-Bell.jpg
END:VEVENT
BEGIN:VEVENT
DTSTART;TZID=America/New_York:20280930T100000
DTEND;TZID=America/New_York:20280930T110000
DTSTAMP:20260419T115720
CREATED:20251210T133316Z
LAST-MODIFIED:20260205T124909Z
UID:10008190-1853920800-1853924400@cloudwater.org
SUMMARY:After The Bell
DESCRIPTION:Every Saturday morning at 10:00 a.m. we gather as a group to participate in a variety of activities such as group discussion over tea\, informal Dharma sharing\, various meditative practices\, internal energy exercises\, consultation with the Teacher\, or whatever else may come to mind. Elements may be presented singly or in combination. This is a good way to promote community and to get input from Zendo participants.
URL:https://cloudwater.org/event/after-the-bell-2/2028-09-30/
CATEGORIES:After The Bell
ATTACH;FMTTYPE=image/jpeg:https://cloudwater.org/wp-content/uploads/2025/06/After-The-Bell.jpg
END:VEVENT
BEGIN:VEVENT
DTSTART;TZID=America/New_York:20281007T100000
DTEND;TZID=America/New_York:20281007T110000
DTSTAMP:20260419T115720
CREATED:20251210T133316Z
LAST-MODIFIED:20260205T124909Z
UID:10008191-1854525600-1854529200@cloudwater.org
SUMMARY:After The Bell
DESCRIPTION:Every Saturday morning at 10:00 a.m. we gather as a group to participate in a variety of activities such as group discussion over tea\, informal Dharma sharing\, various meditative practices\, internal energy exercises\, consultation with the Teacher\, or whatever else may come to mind. Elements may be presented singly or in combination. This is a good way to promote community and to get input from Zendo participants.
URL:https://cloudwater.org/event/after-the-bell-2/2028-10-07/
CATEGORIES:After The Bell
ATTACH;FMTTYPE=image/jpeg:https://cloudwater.org/wp-content/uploads/2025/06/After-The-Bell.jpg
END:VEVENT
BEGIN:VEVENT
DTSTART;TZID=America/New_York:20281014T100000
DTEND;TZID=America/New_York:20281014T110000
DTSTAMP:20260419T115720
CREATED:20251210T133316Z
LAST-MODIFIED:20260205T124909Z
UID:10008192-1855130400-1855134000@cloudwater.org
SUMMARY:After The Bell
DESCRIPTION:Every Saturday morning at 10:00 a.m. we gather as a group to participate in a variety of activities such as group discussion over tea\, informal Dharma sharing\, various meditative practices\, internal energy exercises\, consultation with the Teacher\, or whatever else may come to mind. Elements may be presented singly or in combination. This is a good way to promote community and to get input from Zendo participants.
URL:https://cloudwater.org/event/after-the-bell-2/2028-10-14/
CATEGORIES:After The Bell
ATTACH;FMTTYPE=image/jpeg:https://cloudwater.org/wp-content/uploads/2025/06/After-The-Bell.jpg
END:VEVENT
BEGIN:VEVENT
DTSTART;TZID=America/New_York:20281021T100000
DTEND;TZID=America/New_York:20281021T110000
DTSTAMP:20260419T115720
CREATED:20251210T133316Z
LAST-MODIFIED:20260205T124909Z
UID:10008193-1855735200-1855738800@cloudwater.org
SUMMARY:After The Bell
DESCRIPTION:Every Saturday morning at 10:00 a.m. we gather as a group to participate in a variety of activities such as group discussion over tea\, informal Dharma sharing\, various meditative practices\, internal energy exercises\, consultation with the Teacher\, or whatever else may come to mind. Elements may be presented singly or in combination. This is a good way to promote community and to get input from Zendo participants.
URL:https://cloudwater.org/event/after-the-bell-2/2028-10-21/
CATEGORIES:After The Bell
ATTACH;FMTTYPE=image/jpeg:https://cloudwater.org/wp-content/uploads/2025/06/After-The-Bell.jpg
END:VEVENT
END:VCALENDAR